{"text_format":"1","workbook":"xlsx","n_sheets":8,"sheets":["LİSTE","M","HB","TR","FB","BO","MZ","GS"],"not_rendered":{"charts":0,"images":3,"macros":1,"external_links":0,"defined_names":16,"comments":0,"pivot_tables":0},"unopened":[],"bounds":{"document_bytes":16777216,"sheet_cells":100000,"rows_first":2000,"rows_last":500,"rows_between":2000,"halvings":0,"cell_chars":16384,"cell_head_chars":4096},"cells_cut":0,"cells_raw":0,"read":"whole","date_system":"1900"}

{"sheet":"LİSTE","index":0,"n_rows":14,"n_cols":5,"rows_kept":14,"cut":false,"hidden":false,"merged":[[12,2,12,3],[8,4,10,7],[14,2,14,7],[13,2,13,7],[0,0,1,0],[0,1,1,1]]}
["ÖĞRENCİ NO","ADI SOYADI"]
[null,null,"EĞİTİM ÖĞRETİM YILI","2023-2024 EĞİTİM ÖĞRETİM YILI"]
[null,null,"OKULU/DÖNEMİ:"]
[null,null,"SINIF ÖĞRETMENİ:"]
[null,null,"SINIFI:"]
[]
[null,null,"TÜRKÇE FORM","MÜZİK FORM"]
[null,null,"MATEMATİK FORM","BEDEN EĞİTİMİ VE OYUN FORM"]
[null,null,"HAYAT BİLGİSİ FORM","GÖRSEL SANATLAR FORM","FORMLARIN TAMAMINDA PUANLAMA 3 OLARAK GELECEKTİR.DEĞİŞİKLİK YAPABİLİRSİNİZ."]
[null,null,"FEN BİLİMLERİ"]
[]
[]
[]
[null,null,"BİLGİLER OTOMATİK FORMLARA EKLENECEKTİR."]

{"sheet":"M","index":1,"n_rows":37,"n_cols":42,"rows_kept":37,"cut":false,"hidden":false,"merged":[[32,1,33,1],[34,3,34,10],[34,11,34,14],[35,20,35,29],[36,20,36,29]]}
[null,"BU SATIRDAN ÖĞRENCİNİN NOTUNU TAKİP EDEBİLİRSİNİZ è",{"$f":"C34","v":"Çok İyi"},"Çok İyi","Çok İyi","Çok İyi","Çok İyi","Çok İyi","Çok İyi","Çok İyi","Çok İyi","Çok İyi","Çok İyi","Çok İyi","Çok İyi","Çok İyi","Çok İyi","Çok İyi","Çok İyi","Çok İyi","Çok İyi","Çok İyi","Çok İyi","Çok İyi","Çok İyi","Çok İyi","Çok İyi","Çok İyi","Çok İyi","Çok İyi","Çok İyi","Çok İyi","Çok İyi","Çok İyi","Çok İyi","Çok İyi","Çok İyi","Çok İyi","Çok İyi","Çok İyi","Çok İyi","Çok İyi"]
[null,{"$f":"CONCATENATE(\" \",LİSTE!D2,\" \",LİSTE!D3,\"   \",LİSTE!D5,\" \",\"SINIFI\",\" \",\"MATEMATİK DERSİ KAZANIM DEĞERLENDİRME FORMU\")","v":" 2023-2024 EĞİTİM ÖĞRETİM YILI     SINIFI MATEMATİK DERSİ KAZANIM DEĞERLENDİRME FORMU"},{"$f":"IF(LİSTE!$B3=0,\"\",LİSTE!$B3)","v":""},{"$f":"IF(LİSTE!$B4=0,\"\",LİSTE!$B4)","v":""},{"$f":"IF(LİSTE!$B5=0,\"\",LİSTE!$B5)","v":""},{"$f":"IF(LİSTE!$B6=0,\"\",LİSTE!$B6)","v":""},{"$f":"IF(LİSTE!$B7=0,\"\",LİSTE!$B7)","v":""},{"$f":"IF(LİSTE!$B8=0,\"\",LİSTE!$B8)","v":""},{"$f":"IF(LİSTE!$B9=0,\"\",LİSTE!$B9)","v":""},{"$f":"IF(LİSTE!$B10=0,\"\",LİSTE!$B10)","v":""},{"$f":"IF(LİSTE!$B11=0,\"\",LİSTE!$B11)","v":""},{"$f":"IF(LİSTE!$B12=0,\"\",LİSTE!$B12)","v":""},{"$f":"IF(LİSTE!$B13=0,\"\",LİSTE!$B13)","v":""},{"$f":"IF(LİSTE!$B14=0,\"\",LİSTE!$B14)","v":""},{"$f":"IF(LİSTE!$B15=0,\"\",LİSTE!$B15)","v":""},{"$f":"IF(LİSTE!$B16=0,\"\",LİSTE!$B16)","v":""},{"$f":"IF(LİSTE!$B17=0,\"\",LİSTE!$B17)","v":""},{"$f":"IF(LİSTE!$B18=0,\"\",LİSTE!$B18)","v":""},{"$f":"IF(LİSTE!$B19=0,\"\",LİSTE!$B19)","v":""},{"$f":"IF(LİSTE!$B20=0,\"\",LİSTE!$B20)","v":""},{"$f":"IF(LİSTE!$B21=0,\"\",LİSTE!$B21)","v":""},{"$f":"IF(LİSTE!$B22=0,\"\",LİSTE!$B22)","v":""},{"$f":"IF(LİSTE!$B23=0,\"\",LİSTE!$B23)","v":""},{"$f":"IF(LİSTE!$B24=0,\"\",LİSTE!$B24)","v":""},{"$f":"IF(LİSTE!$B25=0,\"\",LİSTE!$B25)","v":""},{"$f":"IF(LİSTE!$B26=0,\"\",LİSTE!$B26)","v":""},{"$f":"IF(LİSTE!$B27=0,\"\",LİSTE!$B27)","v":""},{"$f":"IF(LİSTE!$B28=0,\"\",LİSTE!$B28)","v":""},{"$f":"IF(LİSTE!$B29=0,\"\",LİSTE!$B29)","v":""},{"$f":"IF(LİSTE!$B$30=0,\"\",LİSTE!$B$30)","v":""},{"$f":"IF(LİSTE!$B$31=0,\"\",LİSTE!$B$31)","v":""},{"$f":"IF(LİSTE!$B$32=0,\"\",LİSTE!$B$32)","v":""},{"$f":"IF(LİSTE!$B$33=0,\"\",LİSTE!$B$33)","v":""},{"$f":"IF(LİSTE!$B$34=0,\"\",LİSTE!$B$34)","v":""},{"$f":"IF(LİSTE!$B$35=0,\"\",LİSTE!$B$35)","v":""},{"$f":"IF(LİSTE!$B$36=0,\"\",LİSTE!$B$36)","v":""},{"$f":"IF(LİSTE!$B$37=0,\"\",LİSTE!$B$37)","v":""},{"$f":"IF(LİSTE!$B$38=0,\"\",LİSTE!$B$38)","v":""},{"$f":"IF(LİSTE!$B$39=0,\"\",LİSTE!$B$39)","v":""},{"$f":"IF(LİSTE!$B$40=0,\"\",LİSTE!$B$40)","v":""},{"$f":"IF(LİSTE!$B$41=0,\"\",LİSTE!$B$41)","v":""},{"$f":"IF(LİSTE!$B$42=0,\"\",LİSTE!$B$42)","v":""}]
[null,"KAZANIMLAR",{"$f":"IF(LİSTE!$A3=0,\"\",LİSTE!$A3)","v":""},{"$f":"IF(LİSTE!$A4=0,\"\",LİSTE!$A4)","v":""},{"$f":"IF(LİSTE!$A5=0,\"\",LİSTE!$A5)","v":""},{"$f":"IF(LİSTE!$A6=0,\"\",LİSTE!$A6)","v":""},{"$f":"IF(LİSTE!$A7=0,\"\",LİSTE!$A7)","v":""},{"$f":"IF(LİSTE!$A8=0,\"\",LİSTE!$A8)","v":""},{"$f":"IF(LİSTE!$A9=0,\"\",LİSTE!$A9)","v":""},{"$f":"IF(LİSTE!$A10=0,\"\",LİSTE!$A10)","v":""},{"$f":"IF(LİSTE!$A11=0,\"\",LİSTE!$A11)","v":""},{"$f":"IF(LİSTE!$A12=0,\"\",LİSTE!$A12)","v":""},{"$f":"IF(LİSTE!$A13=0,\"\",LİSTE!$A13)","v":""},{"$f":"IF(LİSTE!$A14=0,\"\",LİSTE!$A14)","v":""},{"$f":"IF(LİSTE!$A15=0,\"\",LİSTE!$A15)","v":""},{"$f":"IF(LİSTE!$A16=0,\"\",LİSTE!$A16)","v":""},{"$f":"IF(LİSTE!$A17=0,\"\",LİSTE!$A17)","v":""},{"$f":"IF(LİSTE!$A18=0,\"\",LİSTE!$A18)","v":""},{"$f":"IF(LİSTE!$A19=0,\"\",LİSTE!$A19)","v":""},{"$f":"IF(LİSTE!$A20=0,\"\",LİSTE!$A20)","v":""},{"$f":"IF(LİSTE!$A21=0,\"\",LİSTE!$A21)","v":""},{"$f":"IF(LİSTE!$A22=0,\"\",LİSTE!$A22)","v":""},{"$f":"IF(LİSTE!$A23=0,\"\",LİSTE!$A23)","v":""},{"$f":"IF(LİSTE!$A24=0,\"\",LİSTE!$A24)","v":""},{"$f":"IF(LİSTE!$A25=0,\"\",LİSTE!$A25)","v":""},{"$f":"IF(LİSTE!$A26=0,\"\",LİSTE!$A26)","v":""},{"$f":"IF(LİSTE!$A27=0,\"\",LİSTE!$A27)","v":""},{"$f":"IF(LİSTE!$A28=0,\"\",LİSTE!$A28)","v":""},{"$f":"IF(LİSTE!$A29=0,\"\",LİSTE!$A29)","v":""},{"$f":"IF(LİSTE!$A30=0,\"\",LİSTE!$A30)","v":""},{"$f":"IF(LİSTE!$A31=0,\"\",LİSTE!$A31)","v":""},{"$f":"IF(LİSTE!$A32=0,\"\",LİSTE!$A32)","v":""},{"$f":"IF(LİSTE!$A33=0,\"\",LİSTE!$A33)","v":""},{"$f":"IF(LİSTE!$A34=0,\"\",LİSTE!$A34)","v":""},{"$f":"IF(LİSTE!$A35=0,\"\",LİSTE!$A35)","v":""},{"$f":"IF(LİSTE!$A36=0,\"\",LİSTE!$A36)","v":""},{"$f":"IF(LİSTE!$A37=0,\"\",LİSTE!$A37)","v":""},{"$f":"IF(LİSTE!$A38=0,\"\",LİSTE!$A38)","v":""},{"$f":"IF(LİSTE!$A39=0,\"\",LİSTE!$A39)","v":""},{"$f":"IF(LİSTE!$A40=0,\"\",LİSTE!$A40)","v":""},{"$f":"IF(LİSTE!$A41=0,\"\",LİSTE!$A41)","v":""},{"$f":"IF(LİSTE!$A42=0,\"\",LİSTE!$A42)","v":""}]
[null,"Üç basamaklı doğal sayıları okur ve yazar.",3,3,3,3,3,3,3,3,3,3,3,3,3,3,3,3,3,3,3,3,3,3,3,3,3,3,3,3,3,3,3,3,3,3,3,3,3,3,3,3]
[null,"1000 içinde herhangi bir sayıdan başlayarak birer, onar ve yüzer ileriye doğru ritmik sayar.",3,3,3,3,3,3,3,3,3,3,3,3,3,3,3,3,3,3,3,3,3,3,3,3,3,3,3,3,3,3,3,3,3,3,3,3,3,3,3,3]
[null,"Üç basamaklı doğal sayıların basamak adlarını, basamaklarındaki rakamların basamak değerlerini belirler.",3,3,3,3,3,3,3,3,3,3,3,3,3,3,3,3,3,3,3,3,3,3,3,3,3,3,3,3,3,3,3,3,3,3,3,3,3,3,3,3]
[null,"En çok üç basamaklı doğal sayıları en yakın onluğa ya da yüzlüğe yuvarlar.",3,3,3,3,3,3,3,3,3,3,3,3,3,3,3,3,3,3,3,3,3,3,3,3,3,3,3,3,3,3,3,3,3,3,3,3,3,3,3,3]
[null,"1000’den küçük en çok beş doğal sayıyı karşılaştırır ve sembol kullanarak sıralar.",3,3,3,3,3,3,3,3,3,3,3,3,3,3,3,3,3,3,3,3,3,3,3,3,3,3,3,3,3,3,3,3,3,3,3,3,3,3,3,3]
[null,"100 içinde altışar, yedişer, sekizer ve dokuzar ileriye ritmik sayar.",3,3,3,3,3,3,3,3,3,3,3,3,3,3,3,3,3,3,3,3,3,3,3,3,3,3,3,3,3,3,3,3,3,3,3,3,3,3,3,3]
[null,"Aralarındaki fark sabit olan sayı örüntüsünü genişletir ve oluşturur.",3,3,3,3,3,3,3,3,3,3,3,3,3,3,3,3,3,3,3,3,3,3,3,3,3,3,3,3,3,3,3,3,3,3,3,3,3,3,3,3]
[null,"Tek ve çift doğal sayıları kavrar.",3,3,3,3,3,3,3,3,3,3,3,3,3,3,3,3,3,3,3,3,3,3,3,3,3,3,3,3,3,3,3,3,3,3,3,3,3,3,3,3]
[null,"Tek ve çift doğal sayıların toplamlarını model üzerinde inceleyerek toplamların tek mi çift mi olduğunu ifade eder.",3,3,3,3,3,3,3,3,3,3,3,3,3,3,3,3,3,3,3,3,3,3,3,3,3,3,3,3,3,3,3,3,3,3,3,3,3,3,3,3]
[null,"20’ye kadar olan Romen rakamlarını okur ve yazar.",3,3,3,3,3,3,3,3,3,3,3,3,3,3,3,3,3,3,3,3,3,3,3,3,3,3,3,3,3,3,3,3,3,3,3,3,3,3,3,3]
[null,"En çok üç basamaklı sayılarla eldesiz ve eldeli toplama işlemini yapar.",3,3,3,3,3,3,3,3,3,3,3,3,3,3,3,3,3,3,3,3,3,3,3,3,3,3,3,3,3,3,3,3,3,3,3,3,3,3,3,3]
[null,"Üç doğal sayı ile yapılan toplama işleminde sayıların birbirleriyle toplanma sırasının değişmesinin sonucu değiştirmediğini gösterir.",3,3,3,3,3,3,3,3,3,3,3,3,3,3,3,3,3,3,3,3,3,3,3,3,3,3,3,3,3,3,3,3,3,3,3,3,3,3,3,3]
[null,"İki sayının toplamını tahmin eder ve tahminini işlem sonucuyla karşılaştırır.",3,3,3,3,3,3,3,3,3,3,3,3,3,3,3,3,3,3,3,3,3,3,3,3,3,3,3,3,3,3,3,3,3,3,3,3,3,3,3,3]
[null,"Zihinden toplama işlemi yapar.",3,3,3,3,3,3,3,3,3,3,3,3,3,3,3,3,3,3,3,3,3,3,3,3,3,3,3,3,3,3,3,3,3,3,3,3,3,3,3,3]
[null,"Bir toplama işleminde verilmeyen toplananı bulur.",3,3,3,3,3,3,3,3,3,3,3,3,3,3,3,3,3,3,3,3,3,3,3,3,3,3,3,3,3,3,3,3,3,3,3,3,3,3,3,3]
[null,"Doğal sayılarla toplama işlemini gerektiren problemleri çözer.",3,3,3,3,3,3,3,3,3,3,3,3,3,3,3,3,3,3,3,3,3,3,3,3,3,3,3,3,3,3,3,3,3,3,3,3,3,3,3,3]
[null,"Onluk bozma gerektiren ve gerektirmeyen çıkarma işlemi yapar.",3,3,3,3,3,3,3,3,3,3,3,3,3,3,3,3,3,3,3,3,3,3,3,3,3,3,3,3,3,3,3,3,3,3,3,3,3,3,3,3]
[null,"İki basamaklı sayılardan 10’un katı olan iki basamaklı sayıları, üç basamaklı 100’ün katı olan doğal sayılardan 10’un katı olan iki basamaklı doğal sayıları zihinden çıkarır.",3,3,3,3,3,3,3,3,3,3,3,3,3,3,3,3,3,3,3,3,3,3,3,3,3,3,3,3,3,3,3,3,3,3,3,3,3,3,3,3]
[null,"Doğal sayılarla yapılan çıkarma işleminin sonucunu tahmin eder, tahminini işlem sonucuyla karşılaştırır.",3,3,3,3,3,3,3,3,3,3,3,3,3,3,3,3,3,3,3,3,3,3,3,3,3,3,3,3,3,3,3,3,3,3,3,3,3,3,3,3]
[null,"Doğal sayılarla toplama ve çıkarma işlemlerini gerektiren problemleri çözer.",3,3,3,3,3,3,3,3,3,3,3,3,3,3,3,3,3,3,3,3,3,3,3,3,3,3,3,3,3,3,3,3,3,3,3,3,3,3,3,3]
[null,"Şekil ve nesne grafiğinde gösterilen bilgileri açıklayarak grafikten çetele ve sıklık tablosuna dönüşümler yapar ve yorumlar.",3,3,3,3,3,3,3,3,3,3,3,3,3,3,3,3,3,3,3,3,3,3,3,3,3,3,3,3,3,3,3,3,3,3,3,3,3,3,3,3]
[null,"Grafiklerde verilen bilgileri kullanarak veya grafikler oluşturarak toplama ve çıkarma işlemleri gerektiren problemleri çözer.",3,3,3,3,3,3,3,3,3,3,3,3,3,3,3,3,3,3,3,3,3,3,3,3,3,3,3,3,3,3,3,3,3,3,3,3,3,3,3,3]
[null,"En çok üç veri grubuna ait basit tabloları okur, yorumlar ve tablodan elde ettiği veriyi düzenler.",3,3,3,3,3,3,3,3,3,3,3,3,3,3,3,3,3,3,3,3,3,3,3,3,3,3,3,3,3,3,3,3,3,3,3,3,3,3,3,3]
[null,"Çarpma işleminin kat anlamını açıklar.",3,3,3,3,3,3,3,3,3,3,3,3,3,3,3,3,3,3,3,3,3,3,3,3,3,3,3,3,3,3,3,3,3,3,3,3,3,3,3,3]
[null,"Çarpım tablosunu oluşturur.",3,3,3,3,3,3,3,3,3,3,3,3,3,3,3,3,3,3,3,3,3,3,3,3,3,3,3,3,3,3,3,3,3,3,3,3,3,3,3,3]
[null,"İki basamaklı bir doğal sayıyla en çok iki basamaklı bir doğal sayıyı, en çok üç basamaklı bir doğal sayıyla bir basamaklı bir doğal sayıyı çarpar.",3,3,3,3,3,3,3,3,3,3,3,3,3,3,3,3,3,3,3,3,3,3,3,3,3,3,3,3,3,3,3,3,3,3,3,3,3,3,3,3]
[null,"10 ve 100 ile kısa yoldan çarpma işlemi yapar.",3,3,3,3,3,3,3,3,3,3,3,3,3,3,3,3,3,3,3,3,3,3,3,3,3,3,3,3,3,3,3,3,3,3,3,3,3,3,3,3]
[null,"5'e kadar (5 dâhil) çarpım tablosundaki sayıları kullanarak çarpma işleminde çarpanlardan biri bir arttırıldığında veya azaltıldığında çarpma işleminin sonucunun nasıl değiştiğini fark eder.",3,3,3,3,3,3,3,3,3,3,3,3,3,3,3,3,3,3,3,3,3,3,3,3,3,3,3,3,3,3,3,3,3,3,3,3,3,3,3,3]
[null,"Biri çarpma işlemi olmak üzere en çok iki işlem gerektiren problemleri çözer.",3,3,3,3,3,3,3,3,3,3,3,3,3,3,3,3,3,3,3,3,3,3,3,3,3,3,3,3,3,3,3,3,3,3,3,3,3,3,3,3]
[null,"SONUÇ",{"$f":"IFERROR(ROUND(AVERAGE(C4:C32),0),\"\")","v":3},3,3,3,3,3,3,3,3,3,3,3,3,3,3,3,3,3,3,3,3,3,3,3,3,3,3,3,3,3,3,3,3,3,3,3,3,3,3,3]
[null,null,{"$f":"IF(C33=\"\",\"\",IF(C33<1.5,\"Geliştirilmeli\",IF(C33>2.44,\"Çok İyi\",\"İyi\")))","v":"Çok İyi"},{"$f":"IF(D33=\"\",\"\",IF(D33<1.5,\"Geliştirilmeli\",IF(D33>2.44,\"Çok İyi\",\"İyi\")))","v":"Çok İyi"},"Çok İyi","Çok İyi","Çok İyi","Çok İyi","Çok İyi","Çok İyi","Çok İyi","Çok İyi","Çok İyi","Çok İyi","Çok İyi","Çok İyi","Çok İyi","Çok İyi","Çok İyi","Çok İyi","Çok İyi","Çok İyi","Çok İyi","Çok İyi","Çok İyi","Çok İyi","Çok İyi","Çok İyi","Çok İyi","Çok İyi","Çok İyi","Çok İyi","Çok İyi","Çok İyi","Çok İyi","Çok İyi","Çok İyi","Çok İyi","Çok İyi","Çok İyi","Çok İyi","Çok İyi"]
[]
[null,null,null,null,null,null,null,null,null,null,null,null,null,null,null,null,null,null,null,null,{"$f":"IF(LİSTE!$D4=0,\"\",LİSTE!$D4)","v":""}]
[null,null,null,null,null,null,null,null,null,null,null,null,null,null,null,null,null,null,null,null,{"$f":"CONCATENATE(LİSTE!D5,\" \",\"Sınıf Öğretmeni\")","v":" Sınıf Öğretmeni"}]

{"sheet":"HB","index":2,"n_rows":30,"n_cols":42,"rows_kept":30,"cut":false,"hidden":false,"merged":[[25,1,26,1],[27,3,27,10],[27,11,27,14],[28,20,28,29],[29,20,29,29]]}
[null,"BU SATIRDAN ÖĞRENCİNİN NOTUNU TAKİP EDEBİLİRSİNİZ è",{"$f":"C27","v":"Çok İyi"},"Çok İyi","Çok İyi","Çok İyi","Çok İyi","Çok İyi","Çok İyi","Çok İyi","Çok İyi","Çok İyi","Çok İyi","Çok İyi","Çok İyi","Çok İyi","Çok İyi","Çok İyi","Çok İyi","Çok İyi","Çok İyi","Çok İyi","Çok İyi","Çok İyi","Çok İyi","Çok İyi","Çok İyi","Çok İyi","Çok İyi","Çok İyi","Çok İyi","Çok İyi","Çok İyi","Çok İyi","Çok İyi","Çok İyi","Çok İyi","Çok İyi","Çok İyi","Çok İyi","Çok İyi","Çok İyi"]
[null,{"$f":"CONCATENATE(\" \",LİSTE!D2,\" \",LİSTE!D3,\"  \",LİSTE!D5,\" \",\"SINIFI\",\" \",\"HAYAT BİLGİSİ DERSİ KAZANIM DEĞERLENDİRME FORMU\")","v":" 2023-2024 EĞİTİM ÖĞRETİM YILI    SINIFI HAYAT BİLGİSİ DERSİ KAZANIM DEĞERLENDİRME FORMU"},{"$f":"IF(LİSTE!$B3=0,\"\",LİSTE!$B3)","v":""},{"$f":"IF(LİSTE!$B4=0,\"\",LİSTE!$B4)","v":""},{"$f":"IF(LİSTE!$B5=0,\"\",LİSTE!$B5)","v":""},{"$f":"IF(LİSTE!$B6=0,\"\",LİSTE!$B6)","v":""},{"$f":"IF(LİSTE!$B7=0,\"\",LİSTE!$B7)","v":""},{"$f":"IF(LİSTE!$B8=0,\"\",LİSTE!$B8)","v":""},{"$f":"IF(LİSTE!$B9=0,\"\",LİSTE!$B9)","v":""},{"$f":"IF(LİSTE!$B10=0,\"\",LİSTE!$B10)","v":""},{"$f":"IF(LİSTE!$B11=0,\"\",LİSTE!$B11)","v":""},{"$f":"IF(LİSTE!$B12=0,\"\",LİSTE!$B12)","v":""},{"$f":"IF(LİSTE!$B13=0,\"\",LİSTE!$B13)","v":""},{"$f":"IF(LİSTE!$B14=0,\"\",LİSTE!$B14)","v":""},{"$f":"IF(LİSTE!$B15=0,\"\",LİSTE!$B15)","v":""},{"$f":"IF(LİSTE!$B16=0,\"\",LİSTE!$B16)","v":""},{"$f":"IF(LİSTE!$B17=0,\"\",LİSTE!$B17)","v":""},{"$f":"IF(LİSTE!$B18=0,\"\",LİSTE!$B18)","v":""},{"$f":"IF(LİSTE!$B19=0,\"\",LİSTE!$B19)","v":""},{"$f":"IF(LİSTE!$B20=0,\"\",LİSTE!$B20)","v":""},{"$f":"IF(LİSTE!$B21=0,\"\",LİSTE!$B21)","v":""},{"$f":"IF(LİSTE!$B22=0,\"\",LİSTE!$B22)","v":""},{"$f":"IF(LİSTE!$B23=0,\"\",LİSTE!$B23)","v":""},{"$f":"IF(LİSTE!$B24=0,\"\",LİSTE!$B24)","v":""},{"$f":"IF(LİSTE!$B25=0,\"\",LİSTE!$B25)","v":""},{"$f":"IF(LİSTE!$B26=0,\"\",LİSTE!$B26)","v":""},{"$f":"IF(LİSTE!$B27=0,\"\",LİSTE!$B27)","v":""},{"$f":"IF(LİSTE!$B28=0,\"\",LİSTE!$B28)","v":""},{"$f":"IF(LİSTE!$B29=0,\"\",LİSTE!$B29)","v":""},{"$f":"IF(LİSTE!$B$30=0,\"\",LİSTE!$B$30)","v":""},{"$f":"IF(LİSTE!$B$31=0,\"\",LİSTE!$B$31)","v":""},{"$f":"IF(LİSTE!$B$32=0,\"\",LİSTE!$B$32)","v":""},{"$f":"IF(LİSTE!$B$33=0,\"\",LİSTE!$B$33)","v":""},{"$f":"IF(LİSTE!$B$34=0,\"\",LİSTE!$B$34)","v":""},{"$f":"IF(LİSTE!$B$35=0,\"\",LİSTE!$B$35)","v":""},{"$f":"IF(LİSTE!$B$36=0,\"\",LİSTE!$B$36)","v":""},{"$f":"IF(LİSTE!$B$37=0,\"\",LİSTE!$B$37)","v":""},{"$f":"IF(LİSTE!$B$38=0,\"\",LİSTE!$B$38)","v":""},{"$f":"IF(LİSTE!$B$39=0,\"\",LİSTE!$B$39)","v":""},{"$f":"IF(LİSTE!$B$40=0,\"\",LİSTE!$B$40)","v":""},{"$f":"IF(LİSTE!$B$41=0,\"\",LİSTE!$B$41)","v":""},{"$f":"IF(LİSTE!$B$42=0,\"\",LİSTE!$B$42)","v":""}]
[null,"KAZANIMLAR",{"$f":"IF(LİSTE!$A3=0,\"\",LİSTE!$A3)","v":""},{"$f":"IF(LİSTE!$A4=0,\"\",LİSTE!$A4)","v":""},{"$f":"IF(LİSTE!$A5=0,\"\",LİSTE!$A5)","v":""},{"$f":"IF(LİSTE!$A6=0,\"\",LİSTE!$A6)","v":""},{"$f":"IF(LİSTE!$A7=0,\"\",LİSTE!$A7)","v":""},{"$f":"IF(LİSTE!$A8=0,\"\",LİSTE!$A8)","v":""},{"$f":"IF(LİSTE!$A9=0,\"\",LİSTE!$A9)","v":""},{"$f":"IF(LİSTE!$A10=0,\"\",LİSTE!$A10)","v":""},{"$f":"IF(LİSTE!$A11=0,\"\",LİSTE!$A11)","v":""},{"$f":"IF(LİSTE!$A12=0,\"\",LİSTE!$A12)","v":""},{"$f":"IF(LİSTE!$A13=0,\"\",LİSTE!$A13)","v":""},{"$f":"IF(LİSTE!$A14=0,\"\",LİSTE!$A14)","v":""},{"$f":"IF(LİSTE!$A15=0,\"\",LİSTE!$A15)","v":""},{"$f":"IF(LİSTE!$A16=0,\"\",LİSTE!$A16)","v":""},{"$f":"IF(LİSTE!$A17=0,\"\",LİSTE!$A17)","v":""},{"$f":"IF(LİSTE!$A18=0,\"\",LİSTE!$A18)","v":""},{"$f":"IF(LİSTE!$A19=0,\"\",LİSTE!$A19)","v":""},{"$f":"IF(LİSTE!$A20=0,\"\",LİSTE!$A20)","v":""},{"$f":"IF(LİSTE!$A21=0,\"\",LİSTE!$A21)","v":""},{"$f":"IF(LİSTE!$A22=0,\"\",LİSTE!$A22)","v":""},{"$f":"IF(LİSTE!$A23=0,\"\",LİSTE!$A23)","v":""},{"$f":"IF(LİSTE!$A24=0,\"\",LİSTE!$A24)","v":""},{"$f":"IF(LİSTE!$A25=0,\"\",LİSTE!$A25)","v":""},{"$f":"IF(LİSTE!$A26=0,\"\",LİSTE!$A26)","v":""},{"$f":"IF(LİSTE!$A27=0,\"\",LİSTE!$A27)","v":""},{"$f":"IF(LİSTE!$A28=0,\"\",LİSTE!$A28)","v":""},{"$f":"IF(LİSTE!$A29=0,\"\",LİSTE!$A29)","v":""},{"$f":"IF(LİSTE!$A30=0,\"\",LİSTE!$A30)","v":""},{"$f":"IF(LİSTE!$A31=0,\"\",LİSTE!$A31)","v":""},{"$f":"IF(LİSTE!$A32=0,\"\",LİSTE!$A32)","v":""},{"$f":"IF(LİSTE!$A33=0,\"\",LİSTE!$A33)","v":""},{"$f":"IF(LİSTE!$A34=0,\"\",LİSTE!$A34)","v":""},{"$f":"IF(LİSTE!$A35=0,\"\",LİSTE!$A35)","v":""},{"$f":"IF(LİSTE!$A36=0,\"\",LİSTE!$A36)","v":""},{"$f":"IF(LİSTE!$A37=0,\"\",LİSTE!$A37)","v":""},{"$f":"IF(LİSTE!$A38=0,\"\",LİSTE!$A38)","v":""},{"$f":"IF(LİSTE!$A39=0,\"\",LİSTE!$A39)","v":""},{"$f":"IF(LİSTE!$A40=0,\"\",LİSTE!$A40)","v":""},{"$f":"IF(LİSTE!$A41=0,\"\",LİSTE!$A41)","v":""},{"$f":"IF(LİSTE!$A42=0,\"\",LİSTE!$A42)","v":""}]
[null,"Güçlü yönlerini ve güçlendirilmesi gereken yönlerini fark eder.",3,3,3,3,3,3,3,3,3,3,3,3,3,3,3,3,3,3,3,3,3,3,3,3,3,3,3,3,3,3,3,3,3,3,3,3,3,3,3,3]
[null,"Davranışlarının kendisini ve arkadaşlarını nasıl etkilediğini fark eder.",3,3,3,3,3,3,3,3,3,3,3,3,3,3,3,3,3,3,3,3,3,3,3,3,3,3,3,3,3,3,3,3,3,3,3,3,3,3,3,3]
[null,"Arkadaşlarının davranışlarının kendisini nasıl etkilediğini fark eder.",3,3,3,3,3,3,3,3,3,3,3,3,3,3,3,3,3,3,3,3,3,3,3,3,3,3,3,3,3,3,3,3,3,3,3,3,3,3,3,3]
[null,"Arkadaşlık sürecinde dikkat edilmesi gereken hususları kavrar.",3,3,3,3,3,3,3,3,3,3,3,3,3,3,3,3,3,3,3,3,3,3,3,3,3,3,3,3,3,3,3,3,3,3,3,3,3,3,3,3]
[null,"Sınıfının ve okulunun krokisini çizer.",3,3,3,3,3,3,3,3,3,3,3,3,3,3,3,3,3,3,3,3,3,3,3,3,3,3,3,3,3,3,3,3,3,3,3,3,3,3,3,3]
[null,"Okulunun bireysel ve toplumsal katkılarının fark eder.",3,3,3,3,3,3,3,3,3,3,3,3,3,3,3,3,3,3,3,3,3,3,3,3,3,3,3,3,3,3,3,3,3,3,3,3,3,3,3,3]
[null,"Okuldaki sosyal yardımlaşma ve dayanışmayla ilgili çalışmalara katılmaya istekli olur.",3,3,3,3,3,3,3,3,3,3,3,3,3,3,3,3,3,3,3,3,3,3,3,3,3,3,3,3,3,3,3,3,3,3,3,3,3,3,3,3]
[null,"Okula ilişkin istek ve ihtiyaçlarını okul ortamında demokratik yollarla ifade eder.",3,3,3,3,3,3,3,3,3,3,3,3,3,3,3,3,3,3,3,3,3,3,3,3,3,3,3,3,3,3,3,3,3,3,3,3,3,3,3,3]
[null,"Okul kaynaklarının etkili ve verimli kullanımına yönelik özgün önerilerde bulunur.",3,3,3,3,3,3,3,3,3,3,3,3,3,3,3,3,3,3,3,3,3,3,3,3,3,3,3,3,3,3,3,3,3,3,3,3,3,3,3,3]
[null,"İlgi duyduğu meslekleri ve özelliklerini araştırır.",3,3,3,3,3,3,3,3,3,3,3,3,3,3,3,3,3,3,3,3,3,3,3,3,3,3,3,3,3,3,3,3,3,3,3,3,3,3,3,3]
[null,"Aile büyüklerinin çocukluk dönemlerinin özellikleri ile kendi çocukluk döneminin özelliklerini karşılaştırır.",3,3,3,3,3,3,3,3,3,3,3,3,3,3,3,3,3,3,3,3,3,3,3,3,3,3,3,3,3,3,3,3,3,3,3,3,3,3,3,3]
[null,"Komşuluk ilişkilerinin ailesi ve kendisi açısından önemine örnekler verir.",3,3,3,3,3,3,3,3,3,3,3,3,3,3,3,3,3,3,3,3,3,3,3,3,3,3,3,3,3,3,3,3,3,3,3,3,3,3,3,3]
[null,"Evinin bulunduğu yerin krokisini çizer.",3,3,3,3,3,3,3,3,3,3,3,3,3,3,3,3,3,3,3,3,3,3,3,3,3,3,3,3,3,3,3,3,3,3,3,3,3,3,3,3]
[null,"Evde üzerine düşen görev ve sorumlulukları yerine getirir.",3,3,3,3,3,3,3,3,3,3,3,3,3,3,3,3,3,3,3,3,3,3,3,3,3,3,3,3,3,3,3,3,3,3,3,3,3,3,3,3]
[null,"Evde kullanılan alet ve teknolojik ürünlerin hayatımıza olan katkılarına örnekler verir.",3,3,3,3,3,3,3,3,3,3,3,3,3,3,3,3,3,3,3,3,3,3,3,3,3,3,3,3,3,3,3,3,3,3,3,3,3,3,3,3]
[null,"Evdeki kaynakların etkili ve verimli kullanımına yönelik özgün önerilerde bulunur.",3,3,3,3,3,3,3,3,3,3,3,3,3,3,3,3,3,3,3,3,3,3,3,3,3,3,3,3,3,3,3,3,3,3,3,3,3,3,3,3]
[null,"Planlı olmanın kişisel yaşamına olan katkılarına örnekler verir.",3,3,3,3,3,3,3,3,3,3,3,3,3,3,3,3,3,3,3,3,3,3,3,3,3,3,3,3,3,3,3,3,3,3,3,3,3,3,3,3]
[null,"İstek ve ihtiyaçlarını karşılarken kendisinin ve ailesinin bütçesini korumaya özen gösterir.",3,3,3,3,3,3,3,3,3,3,3,3,3,3,3,3,3,3,3,3,3,3,3,3,3,3,3,3,3,3,3,3,3,3,3,3,3,3,3,3]
[null,"Kişisel bakımını yaparken kaynakları verimli kullanır.",3,3,3,3,3,3,3,3,3,3,3,3,3,3,3,3,3,3,3,3,3,3,3,3,3,3,3,3,3,3,3,3,3,3,3,3,3,3,3,3]
[null,"Yiyecek ve içecekler satın alınırken bilinçli tüketici davranışları gösterir.",3,3,3,3,3,3,3,3,3,3,3,3,3,3,3,3,3,3,3,3,3,3,3,3,3,3,3,3,3,3,3,3,3,3,3,3,3,3,3,3]
[null,"Sağlığını korumak için mevsimlere özgü yiyeceklerle beslenir.",3,3,3,3,3,3,3,3,3,3,3,3,3,3,3,3,3,3,3,3,3,3,3,3,3,3,3,3,3,3,3,3,3,3,3,3,3,3,3,3]
[null,"Sağlığını korumak için yeterli ve dengeli beslenir.",3,3,3,3,3,3,3,3,3,3,3,3,3,3,3,3,3,3,3,3,3,3,3,3,3,3,3,3,3,3,3,3,3,3,3,3,3,3,3,3]
[null,"SONUÇ",{"$f":"IFERROR(ROUND(AVERAGE(C4:C25),0),\"\")","v":3},3,3,3,3,3,3,3,3,3,3,3,3,3,3,3,3,3,3,3,3,3,3,3,3,3,3,3,3,3,3,3,3,3,3,3,3,3,3,3]
[null,null,{"$f":"IF(C26=\"\",\"\",IF(C26<1.5,\"Geliştirilmeli\",IF(C26>2.44,\"Çok İyi\",\"İyi\")))","v":"Çok İyi"},{"$f":"IF(D26=\"\",\"\",IF(D26<1.5,\"Geliştirilmeli\",IF(D26>2.44,\"Çok İyi\",\"İyi\")))","v":"Çok İyi"},{"$f":"IF(E26=\"\",\"\",IF(E26<1.5,\"Geliştirilmeli\",IF(E26>2.44,\"Çok İyi\",\"İyi\")))","v":"Çok İyi"},"Çok İyi","Çok İyi","Çok İyi","Çok İyi","Çok İyi","Çok İyi","Çok İyi","Çok İyi","Çok İyi","Çok İyi","Çok İyi","Çok İyi","Çok İyi","Çok İyi","Çok İyi","Çok İyi","Çok İyi","Çok İyi","Çok İyi","Çok İyi","Çok İyi","Çok İyi","Çok İyi","Çok İyi","Çok İyi","Çok İyi","Çok İyi","Çok İyi","Çok İyi","Çok İyi","Çok İyi","Çok İyi","Çok İyi","Çok İyi","Çok İyi","Çok İyi","Çok İyi"]
[]
[null,null,null,null,null,null,null,null,null,null,null,null,null,null,null,null,null,null,null,null,{"$f":"IF(LİSTE!$D4=0,\"\",LİSTE!$D4)","v":""}]
[null,null,null,null,null,null,null,null,null,null,null,null,null,null,null,null,null,null,null,null,{"$f":"CONCATENATE(LİSTE!D5,\" \",\"Sınıf Öğretmeni\")","v":" Sınıf Öğretmeni"}]

{"sheet":"TR","index":3,"n_rows":38,"n_cols":42,"rows_kept":38,"cut":false,"hidden":false,"merged":[[33,1,34,1],[35,3,35,10],[35,11,35,14],[36,20,36,29],[37,20,37,29]]}
[null,"BU SATIRDAN ÖĞRENCİNİN NOTUNU TAKİP EDEBİLİRSİNİZ è",{"$f":"C35","v":"Çok İyi"},"Çok İyi","Çok İyi","Çok İyi","Çok İyi","Çok İyi","Çok İyi",{"$f":"J35","v":"Çok İyi"},"Çok İyi","Çok İyi","Çok İyi","Çok İyi","Çok İyi","Çok İyi","Çok İyi","Çok İyi","Çok İyi","Çok İyi","Çok İyi","Çok İyi","Çok İyi","Çok İyi","Çok İyi","Çok İyi","Çok İyi","Çok İyi","Çok İyi","Çok İyi","Çok İyi","Çok İyi","Çok İyi","Çok İyi","Çok İyi","Çok İyi","Çok İyi","Çok İyi","Çok İyi","Çok İyi","Çok İyi","Çok İyi"]
[null,{"$f":"CONCATENATE(\" \",LİSTE!D2,\" \",LİSTE!D3,\" \",LİSTE!D5,\" \",\"SINIFI\",\" \",\"TÜRKÇE DERSİ KAZANIM DEĞERLENDİRME FORMU\")","v":" 2023-2024 EĞİTİM ÖĞRETİM YILI   SINIFI TÜRKÇE DERSİ KAZANIM DEĞERLENDİRME FORMU"},{"$f":"IF(LİSTE!$B3=0,\"\",LİSTE!$B3)","v":""},{"$f":"IF(LİSTE!$B4=0,\"\",LİSTE!$B4)","v":""},{"$f":"IF(LİSTE!$B5=0,\"\",LİSTE!$B5)","v":""},{"$f":"IF(LİSTE!$B6=0,\"\",LİSTE!$B6)","v":""},{"$f":"IF(LİSTE!$B7=0,\"\",LİSTE!$B7)","v":""},{"$f":"IF(LİSTE!$B8=0,\"\",LİSTE!$B8)","v":""},{"$f":"IF(LİSTE!$B9=0,\"\",LİSTE!$B9)","v":""},{"$f":"IF(LİSTE!$B10=0,\"\",LİSTE!$B10)","v":""},{"$f":"IF(LİSTE!$B11=0,\"\",LİSTE!$B11)","v":""},{"$f":"IF(LİSTE!$B12=0,\"\",LİSTE!$B12)","v":""},{"$f":"IF(LİSTE!$B13=0,\"\",LİSTE!$B13)","v":""},{"$f":"IF(LİSTE!$B14=0,\"\",LİSTE!$B14)","v":""},{"$f":"IF(LİSTE!$B15=0,\"\",LİSTE!$B15)","v":""},{"$f":"IF(LİSTE!$B16=0,\"\",LİSTE!$B16)","v":""},{"$f":"IF(LİSTE!$B17=0,\"\",LİSTE!$B17)","v":""},{"$f":"IF(LİSTE!$B18=0,\"\",LİSTE!$B18)","v":""},{"$f":"IF(LİSTE!$B19=0,\"\",LİSTE!$B19)","v":""},{"$f":"IF(LİSTE!$B20=0,\"\",LİSTE!$B20)","v":""},{"$f":"IF(LİSTE!$B21=0,\"\",LİSTE!$B21)","v":""},{"$f":"IF(LİSTE!$B22=0,\"\",LİSTE!$B22)","v":""},{"$f":"IF(LİSTE!$B23=0,\"\",LİSTE!$B23)","v":""},{"$f":"IF(LİSTE!$B24=0,\"\",LİSTE!$B24)","v":""},{"$f":"IF(LİSTE!$B25=0,\"\",LİSTE!$B25)","v":""},{"$f":"IF(LİSTE!$B26=0,\"\",LİSTE!$B26)","v":""},{"$f":"IF(LİSTE!$B27=0,\"\",LİSTE!$B27)","v":""},{"$f":"IF(LİSTE!$B28=0,\"\",LİSTE!$B28)","v":""},{"$f":"IF(LİSTE!$B29=0,\"\",LİSTE!$B29)","v":""},{"$f":"IF(LİSTE!$B$30=0,\"\",LİSTE!$B$30)","v":""},{"$f":"IF(LİSTE!$B$31=0,\"\",LİSTE!$B$31)","v":""},{"$f":"IF(LİSTE!$B$32=0,\"\",LİSTE!$B$32)","v":""},{"$f":"IF(LİSTE!$B$33=0,\"\",LİSTE!$B$33)","v":""},{"$f":"IF(LİSTE!$B$34=0,\"\",LİSTE!$B$34)","v":""},{"$f":"IF(LİSTE!$B$35=0,\"\",LİSTE!$B$35)","v":""},{"$f":"IF(LİSTE!$B$36=0,\"\",LİSTE!$B$36)","v":""},{"$f":"IF(LİSTE!$B$37=0,\"\",LİSTE!$B$37)","v":""},{"$f":"IF(LİSTE!$B$38=0,\"\",LİSTE!$B$38)","v":""},{"$f":"IF(LİSTE!$B$39=0,\"\",LİSTE!$B$39)","v":""},{"$f":"IF(LİSTE!$B$40=0,\"\",LİSTE!$B$40)","v":""},{"$f":"IF(LİSTE!$B$41=0,\"\",LİSTE!$B$41)","v":""},{"$f":"IF(LİSTE!$B$42=0,\"\",LİSTE!$B$42)","v":""}]
[null,"KAZANIMLAR",{"$f":"IF(LİSTE!$A3=0,\"\",LİSTE!$A3)","v":""},{"$f":"IF(LİSTE!$A4=0,\"\",LİSTE!$A4)","v":""},{"$f":"IF(LİSTE!$A5=0,\"\",LİSTE!$A5)","v":""},{"$f":"IF(LİSTE!$A6=0,\"\",LİSTE!$A6)","v":""},{"$f":"IF(LİSTE!$A7=0,\"\",LİSTE!$A7)","v":""},{"$f":"IF(LİSTE!$A8=0,\"\",LİSTE!$A8)","v":""},{"$f":"IF(LİSTE!$A9=0,\"\",LİSTE!$A9)","v":""},{"$f":"IF(LİSTE!$A10=0,\"\",LİSTE!$A10)","v":""},{"$f":"IF(LİSTE!$A11=0,\"\",LİSTE!$A11)","v":""},{"$f":"IF(LİSTE!$A12=0,\"\",LİSTE!$A12)","v":""},{"$f":"IF(LİSTE!$A13=0,\"\",LİSTE!$A13)","v":""},{"$f":"IF(LİSTE!$A14=0,\"\",LİSTE!$A14)","v":""},{"$f":"IF(LİSTE!$A15=0,\"\",LİSTE!$A15)","v":""},{"$f":"IF(LİSTE!$A16=0,\"\",LİSTE!$A16)","v":""},{"$f":"IF(LİSTE!$A17=0,\"\",LİSTE!$A17)","v":""},{"$f":"IF(LİSTE!$A18=0,\"\",LİSTE!$A18)","v":""},{"$f":"IF(LİSTE!$A19=0,\"\",LİSTE!$A19)","v":""},{"$f":"IF(LİSTE!$A20=0,\"\",LİSTE!$A20)","v":""},{"$f":"IF(LİSTE!$A21=0,\"\",LİSTE!$A21)","v":""},{"$f":"IF(LİSTE!$A22=0,\"\",LİSTE!$A22)","v":""},{"$f":"IF(LİSTE!$A23=0,\"\",LİSTE!$A23)","v":""},{"$f":"IF(LİSTE!$A24=0,\"\",LİSTE!$A24)","v":""},{"$f":"IF(LİSTE!$A25=0,\"\",LİSTE!$A25)","v":""},{"$f":"IF(LİSTE!$A26=0,\"\",LİSTE!$A26)","v":""},{"$f":"IF(LİSTE!$A27=0,\"\",LİSTE!$A27)","v":""},{"$f":"IF(LİSTE!$A28=0,\"\",LİSTE!$A28)","v":""},{"$f":"IF(LİSTE!$A29=0,\"\",LİSTE!$A29)","v":""},{"$f":"IF(LİSTE!$A30=0,\"\",LİSTE!$A30)","v":""},{"$f":"IF(LİSTE!$A31=0,\"\",LİSTE!$A31)","v":""},{"$f":"IF(LİSTE!$A32=0,\"\",LİSTE!$A32)","v":""},{"$f":"IF(LİSTE!$A33=0,\"\",LİSTE!$A33)","v":""},{"$f":"IF(LİSTE!$A34=0,\"\",LİSTE!$A34)","v":""},{"$f":"IF(LİSTE!$A35=0,\"\",LİSTE!$A35)","v":""},{"$f":"IF(LİSTE!$A36=0,\"\",LİSTE!$A36)","v":""},{"$f":"IF(LİSTE!$A37=0,\"\",LİSTE!$A37)","v":""},{"$f":"IF(LİSTE!$A38=0,\"\",LİSTE!$A38)","v":""},{"$f":"IF(LİSTE!$A39=0,\"\",LİSTE!$A39)","v":""},{"$f":"IF(LİSTE!$A40=0,\"\",LİSTE!$A40)","v":""},{"$f":"IF(LİSTE!$A41=0,\"\",LİSTE!$A41)","v":""},{"$f":"IF(LİSTE!$A42=0,\"\",LİSTE!$A42)","v":""}]
[null,"Dinlediği/izlediği metni ana hatlarıyla anlatır.",3,3,3,3,3,3,3,3,3,3,3,3,3,3,3,3,3,3,3,3,3,3,3,3,3,3,3,3,3,3,3,3,3,3,3,3,3,3,3,3]
[null,"Dinlediklerinin/izlediklerinin konusunu belirler.",3,3,3,3,3,3,3,3,3,3,3,3,3,3,3,3,3,3,3,3,3,3,3,3,3,3,3,3,3,3,3,3,3,3,3,3,3,3,3,3]
[null,"Dinlediklerinin/izlediklerinin ana fikrini/ana duygusunu belirler.",3,3,3,3,3,3,3,3,3,3,3,3,3,3,3,3,3,3,3,3,3,3,3,3,3,3,3,3,3,3,3,3,3,3,3,3,3,3,3,3]
[null,"Dinlediklerine/izlediklerine yönelik sorulara cevap verir.",3,3,3,3,3,3,3,3,3,3,3,3,3,3,3,3,3,3,3,3,3,3,3,3,3,3,3,3,3,3,3,3,3,3,3,3,3,3,3,3]
[null,"Kelimeleri anlamlarına uygun kullanır.",3,3,3,3,3,3,3,3,3,3,3,3,3,3,3,3,3,3,3,3,3,3,3,3,3,3,3,3,3,3,3,3,3,3,3,3,3,3,3,3]
[null,"Çerçevesi belirli bir konu hakkında konuşur.",3,3,3,3,3,3,3,3,3,3,3,3,3,3,3,3,3,3,3,3,3,3,3,3,3,3,3,3,3,3,3,3,3,3,3,3,3,3,3,3]
[null,"Okuma materyallerindeki temel bölümleri tanır.",3,3,3,3,3,3,3,3,3,3,3,3,3,3,3,3,3,3,3,3,3,3,3,3,3,3,3,3,3,3,3,3,3,3,3,3,3,3,3,3]
[null,"Noktalama işaretlerine dikkat ederek okur.",3,3,3,3,3,3,3,3,3,3,3,3,3,3,3,3,3,3,3,3,3,3,3,3,3,3,3,3,3,3,3,3,3,3,3,3,3,3,3,3]
[null,"Vurgu, tonlama ve telaffuza dikkat ederek okur.",3,3,3,3,3,3,3,3,3,3,3,3,3,3,3,3,3,3,3,3,3,3,3,3,3,3,3,3,3,3,3,3,3,3,3,3,3,3,3,3]
[null,"Şiir okur.",3,3,3,3,3,3,3,3,3,3,3,3,3,3,3,3,3,3,3,3,3,3,3,3,3,3,3,3,3,3,3,3,3,3,3,3,3,3,3,3]
[null,"Farklı yazı karakterleri ile yazılmış yazıları okur.",3,3,3,3,3,3,3,3,3,3,3,3,3,3,3,3,3,3,3,3,3,3,3,3,3,3,3,3,3,3,3,3,3,3,3,3,3,3,3,3]
[null,"Kelimelerin zıt anlamlılarını bulur.",3,3,3,3,3,3,3,3,3,3,3,3,3,3,3,3,3,3,3,3,3,3,3,3,3,3,3,3,3,3,3,3,3,3,3,3,3,3,3,3]
[null,"Kelimelerin eş anlamlılarını bulur.",3,3,3,3,3,3,3,3,3,3,3,3,3,3,3,3,3,3,3,3,3,3,3,3,3,3,3,3,3,3,3,3,3,3,3,3,3,3,3,3]
[null,"Eş sesli kelimelerin anlamlarını ayırt eder.",3,3,3,3,3,3,3,3,3,3,3,3,3,3,3,3,3,3,3,3,3,3,3,3,3,3,3,3,3,3,3,3,3,3,3,3,3,3,3,3]
[null,"Okuduklarını ana hatlarıyla anlatır.",3,3,3,3,3,3,3,3,3,3,3,3,3,3,3,3,3,3,3,3,3,3,3,3,3,3,3,3,3,3,3,3,3,3,3,3,3,3,3,3]
[null,"Okuduğu metnin konusunu belirler.",3,3,3,3,3,3,3,3,3,3,3,3,3,3,3,3,3,3,3,3,3,3,3,3,3,3,3,3,3,3,3,3,3,3,3,3,3,3,3,3]
[null,"Metnin ana fikri/ana duygusunu belirler.",3,3,3,3,3,3,3,3,3,3,3,3,3,3,3,3,3,3,3,3,3,3,3,3,3,3,3,3,3,3,3,3,3,3,3,3,3,3,3,3]
[null,"Okuduğu metinle ilgili soruları cevaplar.",3,3,3,3,3,3,3,3,3,3,3,3,3,3,3,3,3,3,3,3,3,3,3,3,3,3,3,3,3,3,3,3,3,3,3,3,3,3,3,3]
[null,"Metinle ilgili sorular sorar.",3,3,3,3,3,3,3,3,3,3,3,3,3,3,3,3,3,3,3,3,3,3,3,3,3,3,3,3,3,3,3,3,3,3,3,3,3,3,3,3]
[null,"Okuduğu metindeki hikâye unsurlarını belirler.",3,3,3,3,3,3,3,3,3,3,3,3,3,3,3,3,3,3,3,3,3,3,3,3,3,3,3,3,3,3,3,3,3,3,3,3,3,3,3,3]
[null,"Metin türlerini ayırt eder.",3,3,3,3,3,3,3,3,3,3,3,3,3,3,3,3,3,3,3,3,3,3,3,3,3,3,3,3,3,3,3,3,3,3,3,3,3,3,3,3]
[null,"Metindeki gerçek ve hayalî ögeleri ayırt eder.",3,3,3,3,3,3,3,3,3,3,3,3,3,3,3,3,3,3,3,3,3,3,3,3,3,3,3,3,3,3,3,3,3,3,3,3,3,3,3,3]
[null,"Okudukları ile ilgili çıkarımlar yapar.",3,3,3,3,3,3,3,3,3,3,3,3,3,3,3,3,3,3,3,3,3,3,3,3,3,3,3,3,3,3,3,3,3,3,3,3,3,3,3,3]
[null,"Şiir yazar.",3,3,3,3,3,3,3,3,3,3,3,3,3,3,3,3,3,3,3,3,3,3,3,3,3,3,3,3,3,3,3,3,3,3,3,3,3,3,3,3]
[null,"Kısa metinler yazar.",3,3,3,3,3,3,3,3,3,3,3,3,3,3,3,3,3,3,3,3,3,3,3,3,3,3,3,3,3,3,3,3,3,3,3,3,3,3,3,3]
[null,"Yazdıklarının içeriğine uygun başlık belirler.",3,3,3,3,3,3,3,3,3,3,3,3,3,3,3,3,3,3,3,3,3,3,3,3,3,3,3,3,3,3,3,3,3,3,3,3,3,3,3,3]
[null,"Kısa yönergeler yazar.",3,3,3,3,3,3,3,3,3,3,3,3,3,3,3,3,3,3,3,3,3,3,3,3,3,3,3,3,3,3,3,3,3,3,3,3,3,3,3,3]
[null,"Büyük harfleri ve noktalama işaretlerini uygun yerlerde kullanır.",3,3,3,3,3,3,3,3,3,3,3,3,3,3,3,3,3,3,3,3,3,3,3,3,3,3,3,3,3,3,3,3,3,3,3,3,3,3,3,3]
[null,"Yazılarında eş sesli kelimeleri anlamlarına uygun kullanır.",3,3,3,3,3,3,3,3,3,3,3,3,3,3,3,3,3,3,3,3,3,3,3,3,3,3,3,3,3,3,3,3,3,3,3,3,3,3,3,3]
[null,"Harflerin yapısal özelliklerine uygun kısa metinler yazar.",3,3,3,3,3,3,3,3,3,3,3,3,3,3,3,3,3,3,3,3,3,3,3,3,3,3,3,3,3,3,3,3,3,3,3,3,3,3,3,3]
[null,"SONUÇ",{"$f":"IFERROR(ROUND(AVERAGE(C4:C33),0),\"\")","v":3},3,3,3,3,3,3,3,3,3,3,3,3,3,3,3,3,3,3,3,3,3,3,3,3,3,3,3,{"$f":"IFERROR(ROUND(AVERAGE(AE4:AE33),0),\"\")","v":3},{"$f":"IFERROR(ROUND(AVERAGE(AF4:AF33),0),\"\")","v":3},{"$f":"IFERROR(ROUND(AVERAGE(AG4:AG33),0),\"\")","v":3},{"$f":"IFERROR(ROUND(AVERAGE(AH4:AH33),0),\"\")","v":3},{"$f":"IFERROR(ROUND(AVERAGE(AI4:AI33),0),\"\")","v":3},{"$f":"IFERROR(ROUND(AVERAGE(AJ4:AJ33),0),\"\")","v":3},{"$f":"IFERROR(ROUND(AVERAGE(AK4:AK33),0),\"\")","v":3},{"$f":"IFERROR(ROUND(AVERAGE(AL4:AL33),0),\"\")","v":3},{"$f":"IFERROR(ROUND(AVERAGE(AM4:AM33),0),\"\")","v":3},{"$f":"IFERROR(ROUND(AVERAGE(AN4:AN33),0),\"\")","v":3},{"$f":"IFERROR(ROUND(AVERAGE(AO4:AO33),0),\"\")","v":3},{"$f":"IFERROR(ROUND(AVERAGE(AP4:AP33),0),\"\")","v":3}]
[null,null,{"$f":"IF(C34=\"\",\"\",IF(C34<1.5,\"Geliştirilmeli\",IF(C34>2.44,\"Çok İyi\",\"İyi\")))","v":"Çok İyi"},{"$f":"IF(D34=\"\",\"\",IF(D34<1.5,\"Geliştirilmeli\",IF(D34>2.44,\"Çok İyi\",\"İyi\")))","v":"Çok İyi"},{"$f":"IF(E34=\"\",\"\",IF(E34<1.5,\"Geliştirilmeli\",IF(E34>2.44,\"Çok İyi\",\"İyi\")))","v":"Çok İyi"},"Çok İyi","Çok İyi","Çok İyi","Çok İyi","Çok İyi","Çok İyi","Çok İyi","Çok İyi","Çok İyi","Çok İyi","Çok İyi","Çok İyi","Çok İyi","Çok İyi","Çok İyi","Çok İyi","Çok İyi","Çok İyi","Çok İyi","Çok İyi","Çok İyi","Çok İyi","Çok İyi","Çok İyi","Çok İyi","Çok İyi","Çok İyi","Çok İyi","Çok İyi","Çok İyi","Çok İyi","Çok İyi","Çok İyi","Çok İyi","Çok İyi","Çok İyi","Çok İyi"]
[]
[null,null,null,null,null,null,null,null,null,null,null,null,null,null,null,null,null,null,null,null,{"$f":"IF(LİSTE!$D4=0,\"\",LİSTE!$D4)","v":""}]
[null,null,null,null,null,null,null,null,null,null,null,null,null,null,null,null,null,null,null,null,{"$f":"CONCATENATE(LİSTE!D5,\" \",\"Sınıf Öğretmeni\")","v":" Sınıf Öğretmeni"}]

{"sheet":"FB","index":4,"n_rows":21,"n_cols":42,"rows_kept":21,"cut":false,"hidden":false,"merged":[[16,1,17,1],[18,3,18,10],[18,11,18,14],[19,20,19,29],[20,20,20,29]]}
[null,"BU SATIRDAN ÖĞRENCİNİN NOTUNU TAKİP EDEBİLİRSİNİZ è",{"$f":"C18","v":"Çok İyi"},"Çok İyi","Çok İyi","Çok İyi","Çok İyi","Çok İyi","Çok İyi","Çok İyi","Çok İyi","Çok İyi","Çok İyi","Çok İyi","Çok İyi","Çok İyi","Çok İyi","Çok İyi","Çok İyi","Çok İyi","Çok İyi","Çok İyi","Çok İyi","Çok İyi","Çok İyi","Çok İyi","Çok İyi","Çok İyi","Çok İyi","Çok İyi","Çok İyi","Çok İyi","Çok İyi","Çok İyi","Çok İyi","Çok İyi","Çok İyi","Çok İyi","Çok İyi","Çok İyi","Çok İyi","Çok İyi"]
[null,{"$f":"CONCATENATE(\" \",LİSTE!D2,\" \",LİSTE!D3,\"  \",LİSTE!D5,\" \",\"SINIFI\",\" \",\"FEN BİLİMLERİ DERSİ KAZANIM DEĞERLENDİRME FORMU\")","v":" 2023-2024 EĞİTİM ÖĞRETİM YILI    SINIFI FEN BİLİMLERİ DERSİ KAZANIM DEĞERLENDİRME FORMU"},{"$f":"IF(LİSTE!$B3=0,\"\",LİSTE!$B3)","v":""},{"$f":"IF(LİSTE!$B4=0,\"\",LİSTE!$B4)","v":""},{"$f":"IF(LİSTE!$B5=0,\"\",LİSTE!$B5)","v":""},{"$f":"IF(LİSTE!$B6=0,\"\",LİSTE!$B6)","v":""},{"$f":"IF(LİSTE!$B7=0,\"\",LİSTE!$B7)","v":""},{"$f":"IF(LİSTE!$B8=0,\"\",LİSTE!$B8)","v":""},{"$f":"IF(LİSTE!$B9=0,\"\",LİSTE!$B9)","v":""},{"$f":"IF(LİSTE!$B10=0,\"\",LİSTE!$B10)","v":""},{"$f":"IF(LİSTE!$B11=0,\"\",LİSTE!$B11)","v":""},{"$f":"IF(LİSTE!$B12=0,\"\",LİSTE!$B12)","v":""},{"$f":"IF(LİSTE!$B13=0,\"\",LİSTE!$B13)","v":""},{"$f":"IF(LİSTE!$B14=0,\"\",LİSTE!$B14)","v":""},{"$f":"IF(LİSTE!$B15=0,\"\",LİSTE!$B15)","v":""},{"$f":"IF(LİSTE!$B16=0,\"\",LİSTE!$B16)","v":""},{"$f":"IF(LİSTE!$B17=0,\"\",LİSTE!$B17)","v":""},{"$f":"IF(LİSTE!$B18=0,\"\",LİSTE!$B18)","v":""},{"$f":"IF(LİSTE!$B19=0,\"\",LİSTE!$B19)","v":""},{"$f":"IF(LİSTE!$B20=0,\"\",LİSTE!$B20)","v":""},{"$f":"IF(LİSTE!$B21=0,\"\",LİSTE!$B21)","v":""},{"$f":"IF(LİSTE!$B22=0,\"\",LİSTE!$B22)","v":""},{"$f":"IF(LİSTE!$B23=0,\"\",LİSTE!$B23)","v":""},{"$f":"IF(LİSTE!$B24=0,\"\",LİSTE!$B24)","v":""},{"$f":"IF(LİSTE!$B25=0,\"\",LİSTE!$B25)","v":""},{"$f":"IF(LİSTE!$B26=0,\"\",LİSTE!$B26)","v":""},{"$f":"IF(LİSTE!$B27=0,\"\",LİSTE!$B27)","v":""},{"$f":"IF(LİSTE!$B28=0,\"\",LİSTE!$B28)","v":""},{"$f":"IF(LİSTE!$B29=0,\"\",LİSTE!$B29)","v":""},{"$f":"IF(LİSTE!$B$30=0,\"\",LİSTE!$B$30)","v":""},{"$f":"IF(LİSTE!$B$31=0,\"\",LİSTE!$B$31)","v":""},{"$f":"IF(LİSTE!$B$32=0,\"\",LİSTE!$B$32)","v":""},{"$f":"IF(LİSTE!$B$33=0,\"\",LİSTE!$B$33)","v":""},{"$f":"IF(LİSTE!$B$34=0,\"\",LİSTE!$B$34)","v":""},{"$f":"IF(LİSTE!$B$35=0,\"\",LİSTE!$B$35)","v":""},{"$f":"IF(LİSTE!$B$36=0,\"\",LİSTE!$B$36)","v":""},{"$f":"IF(LİSTE!$B$37=0,\"\",LİSTE!$B$37)","v":""},{"$f":"IF(LİSTE!$B$38=0,\"\",LİSTE!$B$38)","v":""},{"$f":"IF(LİSTE!$B$39=0,\"\",LİSTE!$B$39)","v":""},{"$f":"IF(LİSTE!$B$40=0,\"\",LİSTE!$B$40)","v":""},{"$f":"IF(LİSTE!$B$41=0,\"\",LİSTE!$B$41)","v":""},{"$f":"IF(LİSTE!$B$42=0,\"\",LİSTE!$B$42)","v":""}]
[null,"KAZANIMLAR",{"$f":"IF(LİSTE!$A3=0,\"\",LİSTE!$A3)","v":""},{"$f":"IF(LİSTE!$A4=0,\"\",LİSTE!$A4)","v":""},{"$f":"IF(LİSTE!$A5=0,\"\",LİSTE!$A5)","v":""},{"$f":"IF(LİSTE!$A6=0,\"\",LİSTE!$A6)","v":""},{"$f":"IF(LİSTE!$A7=0,\"\",LİSTE!$A7)","v":""},{"$f":"IF(LİSTE!$A8=0,\"\",LİSTE!$A8)","v":""},{"$f":"IF(LİSTE!$A9=0,\"\",LİSTE!$A9)","v":""},{"$f":"IF(LİSTE!$A10=0,\"\",LİSTE!$A10)","v":""},{"$f":"IF(LİSTE!$A11=0,\"\",LİSTE!$A11)","v":""},{"$f":"IF(LİSTE!$A12=0,\"\",LİSTE!$A12)","v":""},{"$f":"IF(LİSTE!$A13=0,\"\",LİSTE!$A13)","v":""},{"$f":"IF(LİSTE!$A14=0,\"\",LİSTE!$A14)","v":""},{"$f":"IF(LİSTE!$A15=0,\"\",LİSTE!$A15)","v":""},{"$f":"IF(LİSTE!$A16=0,\"\",LİSTE!$A16)","v":""},{"$f":"IF(LİSTE!$A17=0,\"\",LİSTE!$A17)","v":""},{"$f":"IF(LİSTE!$A18=0,\"\",LİSTE!$A18)","v":""},{"$f":"IF(LİSTE!$A19=0,\"\",LİSTE!$A19)","v":""},{"$f":"IF(LİSTE!$A20=0,\"\",LİSTE!$A20)","v":""},{"$f":"IF(LİSTE!$A21=0,\"\",LİSTE!$A21)","v":""},{"$f":"IF(LİSTE!$A22=0,\"\",LİSTE!$A22)","v":""},{"$f":"IF(LİSTE!$A23=0,\"\",LİSTE!$A23)","v":""},{"$f":"IF(LİSTE!$A24=0,\"\",LİSTE!$A24)","v":""},{"$f":"IF(LİSTE!$A25=0,\"\",LİSTE!$A25)","v":""},{"$f":"IF(LİSTE!$A26=0,\"\",LİSTE!$A26)","v":""},{"$f":"IF(LİSTE!$A27=0,\"\",LİSTE!$A27)","v":""},{"$f":"IF(LİSTE!$A28=0,\"\",LİSTE!$A28)","v":""},{"$f":"IF(LİSTE!$A29=0,\"\",LİSTE!$A29)","v":""},{"$f":"IF(LİSTE!$A30=0,\"\",LİSTE!$A30)","v":""},{"$f":"IF(LİSTE!$A31=0,\"\",LİSTE!$A31)","v":""},{"$f":"IF(LİSTE!$A32=0,\"\",LİSTE!$A32)","v":""},{"$f":"IF(LİSTE!$A33=0,\"\",LİSTE!$A33)","v":""},{"$f":"IF(LİSTE!$A34=0,\"\",LİSTE!$A34)","v":""},{"$f":"IF(LİSTE!$A35=0,\"\",LİSTE!$A35)","v":""},{"$f":"IF(LİSTE!$A36=0,\"\",LİSTE!$A36)","v":""},{"$f":"IF(LİSTE!$A37=0,\"\",LİSTE!$A37)","v":""},{"$f":"IF(LİSTE!$A38=0,\"\",LİSTE!$A38)","v":""},{"$f":"IF(LİSTE!$A39=0,\"\",LİSTE!$A39)","v":""},{"$f":"IF(LİSTE!$A40=0,\"\",LİSTE!$A40)","v":""},{"$f":"IF(LİSTE!$A41=0,\"\",LİSTE!$A41)","v":""},{"$f":"IF(LİSTE!$A42=0,\"\",LİSTE!$A42)","v":""}]
[null,"Duyu organlarının önemini fark eder.",3,3,3,3,3,3,3,3,3,3,3,3,3,3,3,3,3,3,3,3,3,3,3,3,3,3,3,3,3,3,3,3,3,3,3,3,3,3,3,3]
[null,"Duyu organlarının temel görevlerini açıklar.",3,3,3,3,3,3,3,3,3,3,3,3,3,3,3,3,3,3,3,3,3,3,3,3,3,3,3,3,3,3,3,3,3,3,3,3,3,3,3,3]
[null,"Duyu organlarının sağlığını korumak için yapılması gerekenleri açıklar.",3,3,3,3,3,3,3,3,3,3,3,3,3,3,3,3,3,3,3,3,3,3,3,3,3,3,3,3,3,3,3,3,3,3,3,3,3,3,3,3]
[null,"Hareket eden varlıkları gözlemler ve hareket özelliklerini ifade eder.",3,3,3,3,3,3,3,3,3,3,3,3,3,3,3,3,3,3,3,3,3,3,3,3,3,3,3,3,3,3,3,3,3,3,3,3,3,3,3,3]
[null,"İtme ve çekmenin birer kuvvet olduğunu deneyerek keşfeder.",3,3,3,3,3,3,3,3,3,3,3,3,3,3,3,3,3,3,3,3,3,3,3,3,3,3,3,3,3,3,3,3,3,3,3,3,3,3,3,3]
[null,"İtme ve çekme kuvvetlerinin hareket eden ve duran cisimler üzerindeki etkilerini gözlemleyerek kuvveti tanımlar.",3,3,3,3,3,3,3,3,3,3,3,3,3,3,3,3,3,3,3,3,3,3,3,3,3,3,3,3,3,3,3,3,3,3,3,3,3,3,3,3]
[null,"Günlük yaşamda hareketli cisimlerin sebep olabileceği tehlikeleri tartışır.",3,3,3,3,3,3,3,3,3,3,3,3,3,3,3,3,3,3,3,3,3,3,3,3,3,3,3,3,3,3,3,3,3,3,3,3,3,3,3,3]
[null,"Beş duyu organını kullanarak maddeyi niteleyen temel özellikleri açıklar.",3,3,3,3,3,3,3,3,3,3,3,3,3,3,3,3,3,3,3,3,3,3,3,3,3,3,3,3,3,3,3,3,3,3,3,3,3,3,3,3]
[null,"Bazı maddelere dokunma, bakma, onları tatma ve koklamanın canlı vücuduna zarar verebileceğini tartışır.",3,3,3,3,3,3,3,3,3,3,3,3,3,3,3,3,3,3,3,3,3,3,3,3,3,3,3,3,3,3,3,3,3,3,3,3,3,3,3,3]
[null,"Bireysel olarak veya gruplar hâlinde çalışırken gerekli güvenlik tedbirlerini almada sorumluluk üstlenir.",3,3,3,3,3,3,3,3,3,3,3,3,3,3,3,3,3,3,3,3,3,3,3,3,3,3,3,3,3,3,3,3,3,3,3,3,3,3,3,3]
[null,"Çevresindeki maddeleri, hâllerine göre sınıflandırır.",3,3,3,3,3,3,3,3,3,3,3,3,3,3,3,3,3,3,3,3,3,3,3,3,3,3,3,3,3,3,3,3,3,3,3,3,3,3,3,3]
[null,"Gözlemleri sonucunda görme olayının gerçekleşebilmesi için ışığın gerekli olduğu sonucunu çıkarır.",3,3,3,3,3,3,3,3,3,3,3,3,3,3,3,3,3,3,3,3,3,3,3,3,3,3,3,3,3,3,3,3,3,3,3,3,3,3,3,3]
[null,"Çevresindeki ışık kaynaklarını doğal ve yapay ışık kaynakları şeklinde sınıflandırır.",3,3,3,3,3,3,3,3,3,3,3,3,3,3,3,3,3,3,3,3,3,3,3,3,3,3,3,3,3,3,3,3,3,3,3,3,3,3,3,3]
[null,"SONUÇ",{"$f":"IFERROR(ROUND(AVERAGE(C4:C16),0),\"\")","v":3},3,3,3,3,3,3,3,3,3,3,3,3,3,3,3,3,3,3,3,3,3,3,3,3,3,3,3,3,3,3,3,3,3,3,3,3,3,3,3]
[null,null,{"$f":"IF(C17=\"\",\"\",IF(C17<1.5,\"Geliştirilmeli\",IF(C17>2.44,\"Çok İyi\",\"İyi\")))","v":"Çok İyi"},{"$f":"IF(D17=\"\",\"\",IF(D17<1.5,\"Geliştirilmeli\",IF(D17>2.44,\"Çok İyi\",\"İyi\")))","v":"Çok İyi"},{"$f":"IF(E17=\"\",\"\",IF(E17<1.5,\"Geliştirilmeli\",IF(E17>2.44,\"Çok İyi\",\"İyi\")))","v":"Çok İyi"},"Çok İyi","Çok İyi","Çok İyi","Çok İyi","Çok İyi","Çok İyi","Çok İyi","Çok İyi","Çok İyi","Çok İyi","Çok İyi","Çok İyi","Çok İyi","Çok İyi","Çok İyi","Çok İyi","Çok İyi","Çok İyi","Çok İyi","Çok İyi","Çok İyi","Çok İyi","Çok İyi","Çok İyi","Çok İyi","Çok İyi","Çok İyi","Çok İyi","Çok İyi","Çok İyi","Çok İyi","Çok İyi","Çok İyi","Çok İyi","Çok İyi","Çok İyi","Çok İyi"]
[]
[null,null,null,null,null,null,null,null,null,null,null,null,null,null,null,null,null,null,null,null,{"$f":"IF(LİSTE!$D4=0,\"\",LİSTE!$D4)","v":""}]
[null,null,null,null,null,null,null,null,null,null,null,null,null,null,null,null,null,null,null,null,{"$f":"CONCATENATE(LİSTE!D5,\" \",\"Sınıf Öğretmeni\")","v":" Sınıf Öğretmeni"}]

{"sheet":"BO","index":5,"n_rows":21,"n_cols":42,"rows_kept":21,"cut":false,"hidden":false,"merged":[[16,1,17,1],[18,3,18,10],[18,11,18,14],[19,20,19,29],[20,20,20,29]]}
[null,"BU SATIRDAN ÖĞRENCİNİN NOTUNU TAKİP EDEBİLİRSİNİZ è",{"$f":"C18","v":"Çok İyi"},"Çok İyi","Çok İyi","Çok İyi","Çok İyi","Çok İyi","Çok İyi","Çok İyi","Çok İyi","Çok İyi","Çok İyi","Çok İyi","Çok İyi","Çok İyi","Çok İyi","Çok İyi","Çok İyi","Çok İyi","Çok İyi","Çok İyi","Çok İyi","Çok İyi","Çok İyi","Çok İyi","Çok İyi","Çok İyi","Çok İyi","Çok İyi","Çok İyi","Çok İyi","Çok İyi","Çok İyi","Çok İyi","Çok İyi","Çok İyi","Çok İyi","Çok İyi","Çok İyi","Çok İyi","Çok İyi"]
[null,{"$f":"CONCATENATE(\" \",LİSTE!D2,\" \",LİSTE!D3,\"  \",LİSTE!D5,\" \",\"SINIFI\",\" \",\"BEDEN EĞİTİMİ VE OYUN DERSİ KAZANIM DEĞERLENDİRME FORMU\")","v":" 2023-2024 EĞİTİM ÖĞRETİM YILI    SINIFI BEDEN EĞİTİMİ VE OYUN DERSİ KAZANIM DEĞERLENDİRME FORMU"},{"$f":"IF(LİSTE!$B3=0,\"\",LİSTE!$B3)","v":""},{"$f":"IF(LİSTE!$B4=0,\"\",LİSTE!$B4)","v":""},{"$f":"IF(LİSTE!$B5=0,\"\",LİSTE!$B5)","v":""},{"$f":"IF(LİSTE!$B6=0,\"\",LİSTE!$B6)","v":""},{"$f":"IF(LİSTE!$B7=0,\"\",LİSTE!$B7)","v":""},{"$f":"IF(LİSTE!$B8=0,\"\",LİSTE!$B8)","v":""},{"$f":"IF(LİSTE!$B9=0,\"\",LİSTE!$B9)","v":""},{"$f":"IF(LİSTE!$B10=0,\"\",LİSTE!$B10)","v":""},{"$f":"IF(LİSTE!$B11=0,\"\",LİSTE!$B11)","v":""},{"$f":"IF(LİSTE!$B12=0,\"\",LİSTE!$B12)","v":""},{"$f":"IF(LİSTE!$B13=0,\"\",LİSTE!$B13)","v":""},{"$f":"IF(LİSTE!$B14=0,\"\",LİSTE!$B14)","v":""},{"$f":"IF(LİSTE!$B15=0,\"\",LİSTE!$B15)","v":""},{"$f":"IF(LİSTE!$B16=0,\"\",LİSTE!$B16)","v":""},{"$f":"IF(LİSTE!$B17=0,\"\",LİSTE!$B17)","v":""},{"$f":"IF(LİSTE!$B18=0,\"\",LİSTE!$B18)","v":""},{"$f":"IF(LİSTE!$B19=0,\"\",LİSTE!$B19)","v":""},{"$f":"IF(LİSTE!$B20=0,\"\",LİSTE!$B20)","v":""},{"$f":"IF(LİSTE!$B21=0,\"\",LİSTE!$B21)","v":""},{"$f":"IF(LİSTE!$B22=0,\"\",LİSTE!$B22)","v":""},{"$f":"IF(LİSTE!$B23=0,\"\",LİSTE!$B23)","v":""},{"$f":"IF(LİSTE!$B24=0,\"\",LİSTE!$B24)","v":""},{"$f":"IF(LİSTE!$B25=0,\"\",LİSTE!$B25)","v":""},{"$f":"IF(LİSTE!$B26=0,\"\",LİSTE!$B26)","v":""},{"$f":"IF(LİSTE!$B27=0,\"\",LİSTE!$B27)","v":""},{"$f":"IF(LİSTE!$B28=0,\"\",LİSTE!$B28)","v":""},{"$f":"IF(LİSTE!$B29=0,\"\",LİSTE!$B29)","v":""},{"$f":"IF(LİSTE!$B$30=0,\"\",LİSTE!$B$30)","v":""},{"$f":"IF(LİSTE!$B$31=0,\"\",LİSTE!$B$31)","v":""},{"$f":"IF(LİSTE!$B$32=0,\"\",LİSTE!$B$32)","v":""},{"$f":"IF(LİSTE!$B$33=0,\"\",LİSTE!$B$33)","v":""},{"$f":"IF(LİSTE!$B$34=0,\"\",LİSTE!$B$34)","v":""},{"$f":"IF(LİSTE!$B$35=0,\"\",LİSTE!$B$35)","v":""},{"$f":"IF(LİSTE!$B$36=0,\"\",LİSTE!$B$36)","v":""},{"$f":"IF(LİSTE!$B$37=0,\"\",LİSTE!$B$37)","v":""},{"$f":"IF(LİSTE!$B$38=0,\"\",LİSTE!$B$38)","v":""},{"$f":"IF(LİSTE!$B$39=0,\"\",LİSTE!$B$39)","v":""},{"$f":"IF(LİSTE!$B$40=0,\"\",LİSTE!$B$40)","v":""},{"$f":"IF(LİSTE!$B$41=0,\"\",LİSTE!$B$41)","v":""},{"$f":"IF(LİSTE!$B$42=0,\"\",LİSTE!$B$42)","v":""}]
[null,"KAZANIMLAR",{"$f":"IF(LİSTE!$A3=0,\"\",LİSTE!$A3)","v":""},{"$f":"IF(LİSTE!$A4=0,\"\",LİSTE!$A4)","v":""},{"$f":"IF(LİSTE!$A5=0,\"\",LİSTE!$A5)","v":""},{"$f":"IF(LİSTE!$A6=0,\"\",LİSTE!$A6)","v":""},{"$f":"IF(LİSTE!$A7=0,\"\",LİSTE!$A7)","v":""},{"$f":"IF(LİSTE!$A8=0,\"\",LİSTE!$A8)","v":""},{"$f":"IF(LİSTE!$A9=0,\"\",LİSTE!$A9)","v":""},{"$f":"IF(LİSTE!$A10=0,\"\",LİSTE!$A10)","v":""},{"$f":"IF(LİSTE!$A11=0,\"\",LİSTE!$A11)","v":""},{"$f":"IF(LİSTE!$A12=0,\"\",LİSTE!$A12)","v":""},{"$f":"IF(LİSTE!$A13=0,\"\",LİSTE!$A13)","v":""},{"$f":"IF(LİSTE!$A14=0,\"\",LİSTE!$A14)","v":""},{"$f":"IF(LİSTE!$A15=0,\"\",LİSTE!$A15)","v":""},{"$f":"IF(LİSTE!$A16=0,\"\",LİSTE!$A16)","v":""},{"$f":"IF(LİSTE!$A17=0,\"\",LİSTE!$A17)","v":""},{"$f":"IF(LİSTE!$A18=0,\"\",LİSTE!$A18)","v":""},{"$f":"IF(LİSTE!$A19=0,\"\",LİSTE!$A19)","v":""},{"$f":"IF(LİSTE!$A20=0,\"\",LİSTE!$A20)","v":""},{"$f":"IF(LİSTE!$A21=0,\"\",LİSTE!$A21)","v":""},{"$f":"IF(LİSTE!$A22=0,\"\",LİSTE!$A22)","v":""},{"$f":"IF(LİSTE!$A23=0,\"\",LİSTE!$A23)","v":""},{"$f":"IF(LİSTE!$A24=0,\"\",LİSTE!$A24)","v":""},{"$f":"IF(LİSTE!$A25=0,\"\",LİSTE!$A25)","v":""},{"$f":"IF(LİSTE!$A26=0,\"\",LİSTE!$A26)","v":""},{"$f":"IF(LİSTE!$A27=0,\"\",LİSTE!$A27)","v":""},{"$f":"IF(LİSTE!$A28=0,\"\",LİSTE!$A28)","v":""},{"$f":"IF(LİSTE!$A29=0,\"\",LİSTE!$A29)","v":""},{"$f":"IF(LİSTE!$A30=0,\"\",LİSTE!$A30)","v":""},{"$f":"IF(LİSTE!$A31=0,\"\",LİSTE!$A31)","v":""},{"$f":"IF(LİSTE!$A32=0,\"\",LİSTE!$A32)","v":""},{"$f":"IF(LİSTE!$A33=0,\"\",LİSTE!$A33)","v":""},{"$f":"IF(LİSTE!$A34=0,\"\",LİSTE!$A34)","v":""},{"$f":"IF(LİSTE!$A35=0,\"\",LİSTE!$A35)","v":""},{"$f":"IF(LİSTE!$A36=0,\"\",LİSTE!$A36)","v":""},{"$f":"IF(LİSTE!$A37=0,\"\",LİSTE!$A37)","v":""},{"$f":"IF(LİSTE!$A38=0,\"\",LİSTE!$A38)","v":""},{"$f":"IF(LİSTE!$A39=0,\"\",LİSTE!$A39)","v":""},{"$f":"IF(LİSTE!$A40=0,\"\",LİSTE!$A40)","v":""},{"$f":"IF(LİSTE!$A41=0,\"\",LİSTE!$A41)","v":""},{"$f":"IF(LİSTE!$A42=0,\"\",LİSTE!$A42)","v":""}]
[null,"Yer değiştirme hareketlerini artan çeviklikle yapar.",3,3,3,3,3,3,3,3,3,3,3,3,3,3,3,3,3,3,3,3,3,3,3,3,3,3,3,3,3,3,3,3,3,3,3,3,3,3,3,3]
[null,"Yer değiştirme hareketlerini vücut, alan farkındalığı ve hareket ilişkilerini kullanarak artan bir doğrulukla yapar.",3,3,3,3,3,3,3,3,3,3,3,3,3,3,3,3,3,3,3,3,3,3,3,3,3,3,3,3,3,3,3,3,3,3,3,3,3,3,3,3]
[null,"Çeşitli nesnelerin üzerinde dengeleme hareketlerini yapar.",3,3,3,3,3,3,3,3,3,3,3,3,3,3,3,3,3,3,3,3,3,3,3,3,3,3,3,3,3,3,3,3,3,3,3,3,3,3,3,3]
[null,"Dengeleme hareketlerini vücut, alan farkındalığı ve hareket ilişkilerini kullanarak artan bir doğrulukla yapar.",3,3,3,3,3,3,3,3,3,3,3,3,3,3,3,3,3,3,3,3,3,3,3,3,3,3,3,3,3,3,3,3,3,3,3,3,3,3,3,3]
[null,"Nesne kontrolü gerektiren hareketleri geliştirir.",3,3,3,3,3,3,3,3,3,3,3,3,3,3,3,3,3,3,3,3,3,3,3,3,3,3,3,3,3,3,3,3,3,3,3,3,3,3,3,3]
[null,"Nesne kontrolü gerektiren hareketleri alan, efor farkındalığı ve hareket ilişkilerini kullanarak artan bir doğrulukla yapar.",3,3,3,3,3,3,3,3,3,3,3,3,3,3,3,3,3,3,3,3,3,3,3,3,3,3,3,3,3,3,3,3,3,3,3,3,3,3,3,3]
[null,"Seçtiği müzik eşliğinde dans koreografisi oluşturur.",3,3,3,3,3,3,3,3,3,3,3,3,3,3,3,3,3,3,3,3,3,3,3,3,3,3,3,3,3,3,3,3,3,3,3,3,3,3,3,3]
[null,"Basit kurallı oyunları artan bir doğrulukla oynar.",3,3,3,3,3,3,3,3,3,3,3,3,3,3,3,3,3,3,3,3,3,3,3,3,3,3,3,3,3,3,3,3,3,3,3,3,3,3,3,3]
[null,"Oyun ve fiziki etkinliklerde arkadaşının performansını gözlemleyerek geri bildirim verir. ",3,3,3,3,3,3,3,3,3,3,3,3,3,3,3,3,3,3,3,3,3,3,3,3,3,3,3,3,3,3,3,3,3,3,3,3,3,3,3,3]
[null,"Oyun ve fiziki etkinliklerde kullanılabilecek basit stratejileri ve taktikleri açıklar.",3,3,3,3,3,3,3,3,3,3,3,3,3,3,3,3,3,3,3,3,3,3,3,3,3,3,3,3,3,3,3,3,3,3,3,3,3,3,3,3]
[null,"Oyun ve fiziki etkinliklerde basit stratejileri ve taktikleri uygular.",3,3,3,3,3,3,3,3,3,3,3,3,3,3,3,3,3,3,3,3,3,3,3,3,3,3,3,3,3,3,3,3,3,3,3,3,3,3,3,3]
[null,"Seçtiği oyun ve fiziki etkinliklere düzenli olarak katılır.",3,3,3,3,3,3,3,3,3,3,3,3,3,3,3,3,3,3,3,3,3,3,3,3,3,3,3,3,3,3,3,3,3,3,3,3,3,3,3,3]
[null,"Fiziksel uygunluğunu destekleyici oyun ve fiziki etkinliklere düzenli olarak katılır.",3,3,3,3,3,3,3,3,3,3,3,3,3,3,3,3,3,3,3,3,3,3,3,3,3,3,3,3,3,3,3,3,3,3,3,3,3,3,3,3]
[null,"SONUÇ",{"$f":"IFERROR(ROUND(AVERAGE(C4:C16),0),\"\")","v":3},3,3,3,3,3,3,3,3,3,3,3,3,3,3,3,3,3,3,3,3,3,3,3,3,3,3,3,3,3,3,3,3,3,3,3,3,3,3,3]
[null,null,{"$f":"IF(C17=\"\",\"\",IF(C17<1.5,\"Geliştirilmeli\",IF(C17>2.44,\"Çok İyi\",\"İyi\")))","v":"Çok İyi"},{"$f":"IF(D17=\"\",\"\",IF(D17<1.5,\"Geliştirilmeli\",IF(D17>2.44,\"Çok İyi\",\"İyi\")))","v":"Çok İyi"},{"$f":"IF(E17=\"\",\"\",IF(E17<1.5,\"Geliştirilmeli\",IF(E17>2.44,\"Çok İyi\",\"İyi\")))","v":"Çok İyi"},"Çok İyi","Çok İyi","Çok İyi","Çok İyi","Çok İyi","Çok İyi","Çok İyi","Çok İyi","Çok İyi","Çok İyi","Çok İyi","Çok İyi","Çok İyi","Çok İyi","Çok İyi","Çok İyi","Çok İyi","Çok İyi","Çok İyi","Çok İyi","Çok İyi","Çok İyi","Çok İyi","Çok İyi","Çok İyi","Çok İyi","Çok İyi","Çok İyi","Çok İyi","Çok İyi","Çok İyi","Çok İyi","Çok İyi","Çok İyi","Çok İyi","Çok İyi","Çok İyi"]
[]
[null,null,null,null,null,null,null,null,null,null,null,null,null,null,null,null,null,null,null,null,{"$f":"IF(LİSTE!$D4=0,\"\",LİSTE!$D4)","v":""}]
[null,null,null,null,null,null,null,null,null,null,null,null,null,null,null,null,null,null,null,null,{"$f":"CONCATENATE(LİSTE!D5,\" \",\"Sınıf Öğretmeni\")","v":" Sınıf Öğretmeni"}]

{"sheet":"MZ","index":6,"n_rows":19,"n_cols":42,"rows_kept":19,"cut":false,"hidden":false,"merged":[[14,1,15,1],[16,3,16,10],[16,11,16,14],[17,20,17,29],[18,20,18,29]]}
[null,"BU SATIRDAN ÖĞRENCİNİN NOTUNU TAKİP EDEBİLİRSİNİZ è",{"$f":"C16","v":"Çok İyi"},"Çok İyi","Çok İyi","Çok İyi","Çok İyi","Çok İyi","Çok İyi","Çok İyi","Çok İyi","Çok İyi","Çok İyi","Çok İyi","Çok İyi","Çok İyi","Çok İyi","Çok İyi","Çok İyi","Çok İyi","Çok İyi","Çok İyi","Çok İyi","Çok İyi","Çok İyi","Çok İyi","Çok İyi","Çok İyi","Çok İyi","Çok İyi","Çok İyi","Çok İyi","Çok İyi","Çok İyi","Çok İyi","Çok İyi","Çok İyi","Çok İyi","Çok İyi","Çok İyi","Çok İyi","Çok İyi"]
[null,{"$f":"CONCATENATE(\" \",LİSTE!D2,\" \",LİSTE!D3,\"  \",LİSTE!D5,\" \",\"SINIFI\",\" \",\"MÜZİK DERSİ KAZANIM DEĞERLENDİRME FORMU\")","v":" 2023-2024 EĞİTİM ÖĞRETİM YILI    SINIFI MÜZİK DERSİ KAZANIM DEĞERLENDİRME FORMU"},{"$f":"IF(LİSTE!$B3=0,\"\",LİSTE!$B3)","v":""},{"$f":"IF(LİSTE!$B4=0,\"\",LİSTE!$B4)","v":""},{"$f":"IF(LİSTE!$B5=0,\"\",LİSTE!$B5)","v":""},{"$f":"IF(LİSTE!$B6=0,\"\",LİSTE!$B6)","v":""},{"$f":"IF(LİSTE!$B7=0,\"\",LİSTE!$B7)","v":""},{"$f":"IF(LİSTE!$B8=0,\"\",LİSTE!$B8)","v":""},{"$f":"IF(LİSTE!$B9=0,\"\",LİSTE!$B9)","v":""},{"$f":"IF(LİSTE!$B10=0,\"\",LİSTE!$B10)","v":""},{"$f":"IF(LİSTE!$B11=0,\"\",LİSTE!$B11)","v":""},{"$f":"IF(LİSTE!$B12=0,\"\",LİSTE!$B12)","v":""},{"$f":"IF(LİSTE!$B13=0,\"\",LİSTE!$B13)","v":""},{"$f":"IF(LİSTE!$B14=0,\"\",LİSTE!$B14)","v":""},{"$f":"IF(LİSTE!$B15=0,\"\",LİSTE!$B15)","v":""},{"$f":"IF(LİSTE!$B16=0,\"\",LİSTE!$B16)","v":""},{"$f":"IF(LİSTE!$B17=0,\"\",LİSTE!$B17)","v":""},{"$f":"IF(LİSTE!$B18=0,\"\",LİSTE!$B18)","v":""},{"$f":"IF(LİSTE!$B19=0,\"\",LİSTE!$B19)","v":""},{"$f":"IF(LİSTE!$B20=0,\"\",LİSTE!$B20)","v":""},{"$f":"IF(LİSTE!$B21=0,\"\",LİSTE!$B21)","v":""},{"$f":"IF(LİSTE!$B22=0,\"\",LİSTE!$B22)","v":""},{"$f":"IF(LİSTE!$B23=0,\"\",LİSTE!$B23)","v":""},{"$f":"IF(LİSTE!$B24=0,\"\",LİSTE!$B24)","v":""},{"$f":"IF(LİSTE!$B25=0,\"\",LİSTE!$B25)","v":""},{"$f":"IF(LİSTE!$B26=0,\"\",LİSTE!$B26)","v":""},{"$f":"IF(LİSTE!$B27=0,\"\",LİSTE!$B27)","v":""},{"$f":"IF(LİSTE!$B28=0,\"\",LİSTE!$B28)","v":""},{"$f":"IF(LİSTE!$B29=0,\"\",LİSTE!$B29)","v":""},{"$f":"IF(LİSTE!$B$30=0,\"\",LİSTE!$B$30)","v":""},{"$f":"IF(LİSTE!$B$31=0,\"\",LİSTE!$B$31)","v":""},{"$f":"IF(LİSTE!$B$32=0,\"\",LİSTE!$B$32)","v":""},{"$f":"IF(LİSTE!$B$33=0,\"\",LİSTE!$B$33)","v":""},{"$f":"IF(LİSTE!$B$34=0,\"\",LİSTE!$B$34)","v":""},{"$f":"IF(LİSTE!$B$35=0,\"\",LİSTE!$B$35)","v":""},{"$f":"IF(LİSTE!$B$36=0,\"\",LİSTE!$B$36)","v":""},{"$f":"IF(LİSTE!$B$37=0,\"\",LİSTE!$B$37)","v":""},{"$f":"IF(LİSTE!$B$38=0,\"\",LİSTE!$B$38)","v":""},{"$f":"IF(LİSTE!$B$39=0,\"\",LİSTE!$B$39)","v":""},{"$f":"IF(LİSTE!$B$40=0,\"\",LİSTE!$B$40)","v":""},{"$f":"IF(LİSTE!$B$41=0,\"\",LİSTE!$B$41)","v":""},{"$f":"IF(LİSTE!$B$42=0,\"\",LİSTE!$B$42)","v":""}]
[null,"KAZANIMLAR",{"$f":"IF(LİSTE!$A3=0,\"\",LİSTE!$A3)","v":""},{"$f":"IF(LİSTE!$A4=0,\"\",LİSTE!$A4)","v":""},{"$f":"IF(LİSTE!$A5=0,\"\",LİSTE!$A5)","v":""},{"$f":"IF(LİSTE!$A6=0,\"\",LİSTE!$A6)","v":""},{"$f":"IF(LİSTE!$A7=0,\"\",LİSTE!$A7)","v":""},{"$f":"IF(LİSTE!$A8=0,\"\",LİSTE!$A8)","v":""},{"$f":"IF(LİSTE!$A9=0,\"\",LİSTE!$A9)","v":""},{"$f":"IF(LİSTE!$A10=0,\"\",LİSTE!$A10)","v":""},{"$f":"IF(LİSTE!$A11=0,\"\",LİSTE!$A11)","v":""},{"$f":"IF(LİSTE!$A12=0,\"\",LİSTE!$A12)","v":""},{"$f":"IF(LİSTE!$A13=0,\"\",LİSTE!$A13)","v":""},{"$f":"IF(LİSTE!$A14=0,\"\",LİSTE!$A14)","v":""},{"$f":"IF(LİSTE!$A15=0,\"\",LİSTE!$A15)","v":""},{"$f":"IF(LİSTE!$A16=0,\"\",LİSTE!$A16)","v":""},{"$f":"IF(LİSTE!$A17=0,\"\",LİSTE!$A17)","v":""},{"$f":"IF(LİSTE!$A18=0,\"\",LİSTE!$A18)","v":""},{"$f":"IF(LİSTE!$A19=0,\"\",LİSTE!$A19)","v":""},{"$f":"IF(LİSTE!$A20=0,\"\",LİSTE!$A20)","v":""},{"$f":"IF(LİSTE!$A21=0,\"\",LİSTE!$A21)","v":""},{"$f":"IF(LİSTE!$A22=0,\"\",LİSTE!$A22)","v":""},{"$f":"IF(LİSTE!$A23=0,\"\",LİSTE!$A23)","v":""},{"$f":"IF(LİSTE!$A24=0,\"\",LİSTE!$A24)","v":""},{"$f":"IF(LİSTE!$A25=0,\"\",LİSTE!$A25)","v":""},{"$f":"IF(LİSTE!$A26=0,\"\",LİSTE!$A26)","v":""},{"$f":"IF(LİSTE!$A27=0,\"\",LİSTE!$A27)","v":""},{"$f":"IF(LİSTE!$A28=0,\"\",LİSTE!$A28)","v":""},{"$f":"IF(LİSTE!$A29=0,\"\",LİSTE!$A29)","v":""},{"$f":"IF(LİSTE!$A30=0,\"\",LİSTE!$A30)","v":""},{"$f":"IF(LİSTE!$A31=0,\"\",LİSTE!$A31)","v":""},{"$f":"IF(LİSTE!$A32=0,\"\",LİSTE!$A32)","v":""},{"$f":"IF(LİSTE!$A33=0,\"\",LİSTE!$A33)","v":""},{"$f":"IF(LİSTE!$A34=0,\"\",LİSTE!$A34)","v":""},{"$f":"IF(LİSTE!$A35=0,\"\",LİSTE!$A35)","v":""},{"$f":"IF(LİSTE!$A36=0,\"\",LİSTE!$A36)","v":""},{"$f":"IF(LİSTE!$A37=0,\"\",LİSTE!$A37)","v":""},{"$f":"IF(LİSTE!$A38=0,\"\",LİSTE!$A38)","v":""},{"$f":"IF(LİSTE!$A39=0,\"\",LİSTE!$A39)","v":""},{"$f":"IF(LİSTE!$A40=0,\"\",LİSTE!$A40)","v":""},{"$f":"IF(LİSTE!$A41=0,\"\",LİSTE!$A41)","v":""},{"$f":"IF(LİSTE!$A42=0,\"\",LİSTE!$A42)","v":""}]
[null,"Konuşurken ve şarkı söylerken sesini doğru kullanır.",3,3,3,3,3,3,3,3,3,3,3,3,3,3,3,3,3,3,3,3,3,3,3,3,3,3,3,3,3,3,3,3,3,3,3,3,3,3,3,3]
[null,"Birlikte söyleme kurallarına uyar.",3,3,3,3,3,3,3,3,3,3,3,3,3,3,3,3,3,3,3,3,3,3,3,3,3,3,3,3,3,3,3,3,3,3,3,3,3,3,3,3]
[null,"Belirli gün ve haftalarla ilgili müzikleri anlamına uygun söyler.",3,3,3,3,3,3,3,3,3,3,3,3,3,3,3,3,3,3,3,3,3,3,3,3,3,3,3,3,3,3,3,3,3,3,3,3,3,3,3,3]
[null,"Atatürk ile ilgili düzeyine uygun müzikleri doğru ve anlamına uygun söyler.",3,3,3,3,3,3,3,3,3,3,3,3,3,3,3,3,3,3,3,3,3,3,3,3,3,3,3,3,3,3,3,3,3,3,3,3,3,3,3,3]
[null,"İstiklâl Marşı’nı saygıyla söyler.",3,3,3,3,3,3,3,3,3,3,3,3,3,3,3,3,3,3,3,3,3,3,3,3,3,3,3,3,3,3,3,3,3,3,3,3,3,3,3,3]
[null,"Müzikteki uzun ve kısa ses sürelerini fark eder.",3,3,3,3,3,3,3,3,3,3,3,3,3,3,3,3,3,3,3,3,3,3,3,3,3,3,3,3,3,3,3,3,3,3,3,3,3,3,3,3]
[null,"Müzikteki ses yüksekliklerini grafikle gösterir.",3,3,3,3,3,3,3,3,3,3,3,3,3,3,3,3,3,3,3,3,3,3,3,3,3,3,3,3,3,3,3,3,3,3,3,3,3,3,3,3]
[null,"Duyduğu basit ritim ve ezgiyi tekrarlar.",3,3,3,3,3,3,3,3,3,3,3,3,3,3,3,3,3,3,3,3,3,3,3,3,3,3,3,3,3,3,3,3,3,3,3,3,3,3,3,3]
[null,"Müzikleri uygun hız ve gürlükte seslendirir.",3,3,3,3,3,3,3,3,3,3,3,3,3,3,3,3,3,3,3,3,3,3,3,3,3,3,3,3,3,3,3,3,3,3,3,3,3,3,3,3]
[null,"Müziklerdeki aynı ve farklı söz kümelerini harekete dönüştürür.",3,3,3,3,3,3,3,3,3,3,3,3,3,3,3,3,3,3,3,3,3,3,3,3,3,3,3,3,3,3,3,3,3,3,3,3,3,3,3,3]
[null,"Notalar ile renkleri eşleştirir.",3,3,3,3,3,3,3,3,3,3,3,3,3,3,3,3,3,3,3,3,3,3,3,3,3,3,3,3,3,3,3,3,3,3,3,3,3,3,3,3]
[null,"SONUÇ",{"$f":"IFERROR(ROUND(AVERAGE(C4:C14),0),\"\")","v":3},3,3,3,3,3,3,3,3,3,3,3,3,3,3,3,3,3,3,3,3,3,3,3,3,3,3,3,3,3,3,3,3,3,3,3,3,3,3,3]
[null,null,{"$f":"IF(C15=\"\",\"\",IF(C15<1.5,\"Geliştirilmeli\",IF(C15>2.44,\"Çok İyi\",\"İyi\")))","v":"Çok İyi"},{"$f":"IF(D15=\"\",\"\",IF(D15<1.5,\"Geliştirilmeli\",IF(D15>2.44,\"Çok İyi\",\"İyi\")))","v":"Çok İyi"},{"$f":"IF(E15=\"\",\"\",IF(E15<1.5,\"Geliştirilmeli\",IF(E15>2.44,\"Çok İyi\",\"İyi\")))","v":"Çok İyi"},"Çok İyi","Çok İyi","Çok İyi","Çok İyi","Çok İyi","Çok İyi","Çok İyi","Çok İyi","Çok İyi","Çok İyi","Çok İyi","Çok İyi","Çok İyi","Çok İyi","Çok İyi","Çok İyi","Çok İyi","Çok İyi","Çok İyi","Çok İyi","Çok İyi","Çok İyi","Çok İyi","Çok İyi","Çok İyi","Çok İyi","Çok İyi","Çok İyi","Çok İyi","Çok İyi","Çok İyi","Çok İyi","Çok İyi","Çok İyi","Çok İyi","Çok İyi","Çok İyi"]
[]
[null,null,null,null,null,null,null,null,null,null,null,null,null,null,null,null,null,null,null,null,{"$f":"IF(LİSTE!$D4=0,\"\",LİSTE!$D4)","v":""}]
[null,null,null,null,null,null,null,null,null,null,null,null,null,null,null,null,null,null,null,null,{"$f":"CONCATENATE(LİSTE!D5,\" \",\"Sınıf Öğretmeni\")","v":" Sınıf Öğretmeni"}]

{"sheet":"GS","index":7,"n_rows":15,"n_cols":42,"rows_kept":15,"cut":false,"hidden":false,"merged":[[10,1,11,1],[12,3,12,10],[12,11,12,14],[13,20,13,29],[14,20,14,29]]}
[null,"BU SATIRDAN ÖĞRENCİNİN NOTUNU TAKİP EDEBİLİRSİNİZ è",{"$f":"C12","v":"Çok İyi"},"Çok İyi","Çok İyi","Çok İyi","Çok İyi","Çok İyi","Çok İyi","Çok İyi","Çok İyi","Çok İyi","Çok İyi","Çok İyi","Çok İyi","Çok İyi","Çok İyi","Çok İyi","Çok İyi","Çok İyi","Çok İyi","Çok İyi","Çok İyi","Çok İyi","Çok İyi","Çok İyi","Çok İyi","Çok İyi","Çok İyi","Çok İyi","Çok İyi","Çok İyi","Çok İyi","Çok İyi","Çok İyi","Çok İyi","Çok İyi","Çok İyi","Çok İyi","Çok İyi","Çok İyi","Çok İyi"]
[null,{"$f":"CONCATENATE(\" \",LİSTE!D2,\" \",LİSTE!D3,\"  \",LİSTE!D5,\" \",\"SINIFI\",\" \",\"GÖRSEL SANATLAR DERSİ KAZANIM DEĞERLENDİRME FORMU\")","v":" 2023-2024 EĞİTİM ÖĞRETİM YILI    SINIFI GÖRSEL SANATLAR DERSİ KAZANIM DEĞERLENDİRME FORMU"},{"$f":"IF(LİSTE!$B3=0,\"\",LİSTE!$B3)","v":""},{"$f":"IF(LİSTE!$B4=0,\"\",LİSTE!$B4)","v":""},{"$f":"IF(LİSTE!$B5=0,\"\",LİSTE!$B5)","v":""},{"$f":"IF(LİSTE!$B6=0,\"\",LİSTE!$B6)","v":""},{"$f":"IF(LİSTE!$B7=0,\"\",LİSTE!$B7)","v":""},{"$f":"IF(LİSTE!$B8=0,\"\",LİSTE!$B8)","v":""},{"$f":"IF(LİSTE!$B9=0,\"\",LİSTE!$B9)","v":""},{"$f":"IF(LİSTE!$B10=0,\"\",LİSTE!$B10)","v":""},{"$f":"IF(LİSTE!$B11=0,\"\",LİSTE!$B11)","v":""},{"$f":"IF(LİSTE!$B12=0,\"\",LİSTE!$B12)","v":""},{"$f":"IF(LİSTE!$B13=0,\"\",LİSTE!$B13)","v":""},{"$f":"IF(LİSTE!$B14=0,\"\",LİSTE!$B14)","v":""},{"$f":"IF(LİSTE!$B15=0,\"\",LİSTE!$B15)","v":""},{"$f":"IF(LİSTE!$B16=0,\"\",LİSTE!$B16)","v":""},{"$f":"IF(LİSTE!$B17=0,\"\",LİSTE!$B17)","v":""},{"$f":"IF(LİSTE!$B18=0,\"\",LİSTE!$B18)","v":""},{"$f":"IF(LİSTE!$B19=0,\"\",LİSTE!$B19)","v":""},{"$f":"IF(LİSTE!$B20=0,\"\",LİSTE!$B20)","v":""},{"$f":"IF(LİSTE!$B21=0,\"\",LİSTE!$B21)","v":""},{"$f":"IF(LİSTE!$B22=0,\"\",LİSTE!$B22)","v":""},{"$f":"IF(LİSTE!$B23=0,\"\",LİSTE!$B23)","v":""},{"$f":"IF(LİSTE!$B24=0,\"\",LİSTE!$B24)","v":""},{"$f":"IF(LİSTE!$B25=0,\"\",LİSTE!$B25)","v":""},{"$f":"IF(LİSTE!$B26=0,\"\",LİSTE!$B26)","v":""},{"$f":"IF(LİSTE!$B27=0,\"\",LİSTE!$B27)","v":""},{"$f":"IF(LİSTE!$B28=0,\"\",LİSTE!$B28)","v":""},{"$f":"IF(LİSTE!$B29=0,\"\",LİSTE!$B29)","v":""},{"$f":"IF(LİSTE!$B$30=0,\"\",LİSTE!$B$30)","v":""},{"$f":"IF(LİSTE!$B$31=0,\"\",LİSTE!$B$31)","v":""},{"$f":"IF(LİSTE!$B$32=0,\"\",LİSTE!$B$32)","v":""},{"$f":"IF(LİSTE!$B$33=0,\"\",LİSTE!$B$33)","v":""},{"$f":"IF(LİSTE!$B$34=0,\"\",LİSTE!$B$34)","v":""},{"$f":"IF(LİSTE!$B$35=0,\"\",LİSTE!$B$35)","v":""},{"$f":"IF(LİSTE!$B$36=0,\"\",LİSTE!$B$36)","v":""},{"$f":"IF(LİSTE!$B$37=0,\"\",LİSTE!$B$37)","v":""},{"$f":"IF(LİSTE!$B$38=0,\"\",LİSTE!$B$38)","v":""},{"$f":"IF(LİSTE!$B$39=0,\"\",LİSTE!$B$39)","v":""},{"$f":"IF(LİSTE!$B$40=0,\"\",LİSTE!$B$40)","v":""},{"$f":"IF(LİSTE!$B$41=0,\"\",LİSTE!$B$41)","v":""},{"$f":"IF(LİSTE!$B$42=0,\"\",LİSTE!$B$42)","v":""}]
[null,"KAZANIMLAR",{"$f":"IF(LİSTE!$A3=0,\"\",LİSTE!$A3)","v":""},{"$f":"IF(LİSTE!$A4=0,\"\",LİSTE!$A4)","v":""},{"$f":"IF(LİSTE!$A5=0,\"\",LİSTE!$A5)","v":""},{"$f":"IF(LİSTE!$A6=0,\"\",LİSTE!$A6)","v":""},{"$f":"IF(LİSTE!$A7=0,\"\",LİSTE!$A7)","v":""},{"$f":"IF(LİSTE!$A8=0,\"\",LİSTE!$A8)","v":""},{"$f":"IF(LİSTE!$A9=0,\"\",LİSTE!$A9)","v":""},{"$f":"IF(LİSTE!$A10=0,\"\",LİSTE!$A10)","v":""},{"$f":"IF(LİSTE!$A11=0,\"\",LİSTE!$A11)","v":""},{"$f":"IF(LİSTE!$A12=0,\"\",LİSTE!$A12)","v":""},{"$f":"IF(LİSTE!$A13=0,\"\",LİSTE!$A13)","v":""},{"$f":"IF(LİSTE!$A14=0,\"\",LİSTE!$A14)","v":""},{"$f":"IF(LİSTE!$A15=0,\"\",LİSTE!$A15)","v":""},{"$f":"IF(LİSTE!$A16=0,\"\",LİSTE!$A16)","v":""},{"$f":"IF(LİSTE!$A17=0,\"\",LİSTE!$A17)","v":""},{"$f":"IF(LİSTE!$A18=0,\"\",LİSTE!$A18)","v":""},{"$f":"IF(LİSTE!$A19=0,\"\",LİSTE!$A19)","v":""},{"$f":"IF(LİSTE!$A20=0,\"\",LİSTE!$A20)","v":""},{"$f":"IF(LİSTE!$A21=0,\"\",LİSTE!$A21)","v":""},{"$f":"IF(LİSTE!$A22=0,\"\",LİSTE!$A22)","v":""},{"$f":"IF(LİSTE!$A23=0,\"\",LİSTE!$A23)","v":""},{"$f":"IF(LİSTE!$A24=0,\"\",LİSTE!$A24)","v":""},{"$f":"IF(LİSTE!$A25=0,\"\",LİSTE!$A25)","v":""},{"$f":"IF(LİSTE!$A26=0,\"\",LİSTE!$A26)","v":""},{"$f":"IF(LİSTE!$A27=0,\"\",LİSTE!$A27)","v":""},{"$f":"IF(LİSTE!$A28=0,\"\",LİSTE!$A28)","v":""},{"$f":"IF(LİSTE!$A29=0,\"\",LİSTE!$A29)","v":""},{"$f":"IF(LİSTE!$A30=0,\"\",LİSTE!$A30)","v":""},{"$f":"IF(LİSTE!$A31=0,\"\",LİSTE!$A31)","v":""},{"$f":"IF(LİSTE!$A32=0,\"\",LİSTE!$A32)","v":""},{"$f":"IF(LİSTE!$A33=0,\"\",LİSTE!$A33)","v":""},{"$f":"IF(LİSTE!$A34=0,\"\",LİSTE!$A34)","v":""},{"$f":"IF(LİSTE!$A35=0,\"\",LİSTE!$A35)","v":""},{"$f":"IF(LİSTE!$A36=0,\"\",LİSTE!$A36)","v":""},{"$f":"IF(LİSTE!$A37=0,\"\",LİSTE!$A37)","v":""},{"$f":"IF(LİSTE!$A38=0,\"\",LİSTE!$A38)","v":""},{"$f":"IF(LİSTE!$A39=0,\"\",LİSTE!$A39)","v":""},{"$f":"IF(LİSTE!$A40=0,\"\",LİSTE!$A40)","v":""},{"$f":"IF(LİSTE!$A41=0,\"\",LİSTE!$A41)","v":""},{"$f":"IF(LİSTE!$A42=0,\"\",LİSTE!$A42)","v":""}]
[null,"Görsel sanat çalışmasını oluştururken uygulama basamaklarını kullanır.",3,3,3,3,3,3,3,3,3,3,3,3,3,3,3,3,3,3,3,3,3,3,3,3,3,3,3,3,3,3,3,3,3,3,3,3,3,3,3,3]
[null,"Görsel sanat çalışmasını oluştururken ifadeci yaklaşımı kullanır.",3,3,3,3,3,3,3,3,3,3,3,3,3,3,3,3,3,3,3,3,3,3,3,3,3,3,3,3,3,3,3,3,3,3,3,3,3,3,3,3]
[null,"Görsel sanat çalışmasını yaparken güncel kaynaklara dayalı fikirler geliştirir.",3,3,3,3,3,3,3,3,3,3,3,3,3,3,3,3,3,3,3,3,3,3,3,3,3,3,3,3,3,3,3,3,3,3,3,3,3,3,3,3]
[null,"Gözleme dayalı çizimlerinde geometrik ve organik biçimleri kullanır.",3,3,3,3,3,3,3,3,3,3,3,3,3,3,3,3,3,3,3,3,3,3,3,3,3,3,3,3,3,3,3,3,3,3,3,3,3,3,3,3]
[null,"İki boyutlu çalışmasında ön, orta, arka planı kullanır.",3,3,3,3,3,3,3,3,3,3,3,3,3,3,3,3,3,3,3,3,3,3,3,3,3,3,3,3,3,3,3,3,3,3,3,3,3,3,3,3]
[null,"Ekleme, çıkarma, içten ve dıştan kuvvet uygulama yoluyla farklı malzemeleri kullanarak üç boyutlu çalışma yapar.",3,3,3,3,3,3,3,3,3,3,3,3,3,3,3,3,3,3,3,3,3,3,3,3,3,3,3,3,3,3,3,3,3,3,3,3,3,3,3,3]
[null,"Görsel sanat çalışmalarını oluştururken sanat elemanları ve tasarım ilkelerini kullanır.",3,3,3,3,3,3,3,3,3,3,3,3,3,3,3,3,3,3,3,3,3,3,3,3,3,3,3,3,3,3,3,3,3,3,3,3,3,3,3,3]
[null,"SONUÇ",{"$f":"IFERROR(ROUND(AVERAGE(C4:C10),0),\"\")","v":3},3,3,3,3,3,3,3,3,3,3,3,3,3,3,3,3,3,3,3,3,3,3,3,3,3,3,3,3,3,3,3,3,3,3,3,3,3,3,3]
[null,null,{"$f":"IF(C11=\"\",\"\",IF(C11<1.5,\"Geliştirilmeli\",IF(C11>2.44,\"Çok İyi\",\"İyi\")))","v":"Çok İyi"},{"$f":"IF(D11=\"\",\"\",IF(D11<1.5,\"Geliştirilmeli\",IF(D11>2.44,\"Çok İyi\",\"İyi\")))","v":"Çok İyi"},{"$f":"IF(E11=\"\",\"\",IF(E11<1.5,\"Geliştirilmeli\",IF(E11>2.44,\"Çok İyi\",\"İyi\")))","v":"Çok İyi"},"Çok İyi","Çok İyi","Çok İyi","Çok İyi","Çok İyi","Çok İyi","Çok İyi","Çok İyi","Çok İyi","Çok İyi","Çok İyi","Çok İyi","Çok İyi","Çok İyi","Çok İyi","Çok İyi","Çok İyi","Çok İyi","Çok İyi","Çok İyi","Çok İyi","Çok İyi","Çok İyi","Çok İyi","Çok İyi","Çok İyi","Çok İyi","Çok İyi","Çok İyi","Çok İyi","Çok İyi","Çok İyi","Çok İyi","Çok İyi","Çok İyi","Çok İyi","Çok İyi"]
[]
[null,null,null,null,null,null,null,null,null,null,null,null,null,null,null,null,null,null,null,null,{"$f":"IF(LİSTE!$D4=0,\"\",LİSTE!$D4)","v":""}]
[null,null,null,null,null,null,null,null,null,null,null,null,null,null,null,null,null,null,null,null,{"$f":"CONCATENATE(LİSTE!D5,\" \",\"Sınıf Öğretmeni\")","v":" Sınıf Öğretmeni"}]